BEGIN:VCALENDAR
VERSION:2.0
PRODID:-//Manning River Rowing Club - ECPv6.6.4//NONSGML v1.0//EN
CALSCALE:GREGORIAN
METHOD:PUBLISH
X-WR-CALNAME:Manning River Rowing Club
X-ORIGINAL-URL:https://manningriverrowingclub.org.au
X-WR-CALDESC:Events for Manning River Rowing Club
REFRESH-INTERVAL;VALUE=DURATION:PT1H
X-Robots-Tag:noindex
X-PUBLISHED-TTL:PT1H
BEGIN:VTIMEZONE
TZID:Australia/Sydney
BEGIN:STANDARD
TZOFFSETFROM:+1100
TZOFFSETTO:+1000
TZNAME:AEST
DTSTART:20260404T160000
END:STANDARD
BEGIN:DAYLIGHT
TZOFFSETFROM:+1000
TZOFFSETTO:+1100
TZNAME:AEDT
DTSTART:20261003T160000
END:DAYLIGHT
END:VTIMEZONE
BEGIN:VEVENT
DTSTART;TZID=Australia/Sydney:20260418T070000
DTEND;TZID=Australia/Sydney:20260418T083000
DTSTAMP:20260418T075604
CREATED:20241004T024045Z
LAST-MODIFIED:20241126T235515Z
UID:10000088-1776495600-1776501000@manningriverrowingclub.org.au
SUMMARY:Learn to Row
DESCRIPTION:Our Learn to Row program is on again this Saturday from 6:50am to 8:30am. \nSign up for the 6 week introductory course to participate. \nBe sure to bring sun protection\, water bottle\, thongs or sandals\, a towel and change of clothes.
URL:https://manningriverrowingclub.org.au/event/learn-to-row/2026-04-18/
LOCATION:Rowing Club\, Endeavour Place\, Taree\,\, NSW\, 2430\, Australia
END:VEVENT
BEGIN:VEVENT
DTSTART;TZID=Australia/Sydney:20260421T153000
DTEND;TZID=Australia/Sydney:20260421T173000
DTSTAMP:20260418T075604
CREATED:20241009T003759Z
LAST-MODIFIED:20241009T004436Z
UID:10000614-1776785400-1776792600@manningriverrowingclub.org.au
SUMMARY:Tuesday Arvo Ergs
DESCRIPTION:Every Tuesday from 3:30pm to 5:30pm \nOpen to all members. Develop skills to improve your sequencing and improve fitness. Suitable for all levels of ability and fitness. \nContact Hugh McLeod to take part Ph: 0403 703 026
URL:https://manningriverrowingclub.org.au/event/tuesday-arvo-ergs/2026-04-21/
END:VEVENT
BEGIN:VEVENT
DTSTART;TZID=Australia/Sydney:20260423T153000
DTEND;TZID=Australia/Sydney:20260423T173000
DTSTAMP:20260418T075604
CREATED:20241009T003516Z
LAST-MODIFIED:20241009T004145Z
UID:10000354-1776958200-1776965400@manningriverrowingclub.org.au
SUMMARY:Thursday Arvo Ergs
DESCRIPTION:Every Thursday from 3:30pm to 5:30pm \nOpen to all members. Develop skills to improve your sequencing and improve fitness. Suitable for all levels of ability and fitness. \nContact Hugh McLeod to take part Ph: 0403 703 026 \n  \n \n 
URL:https://manningriverrowingclub.org.au/event/thursday-arvo-ergs/2026-04-23/
END:VEVENT
BEGIN:VEVENT
DTSTART;TZID=Australia/Sydney:20260425T070000
DTEND;TZID=Australia/Sydney:20260425T083000
DTSTAMP:20260418T075604
CREATED:20241004T024045Z
LAST-MODIFIED:20241126T235515Z
UID:10000089-1777100400-1777105800@manningriverrowingclub.org.au
SUMMARY:Learn to Row
DESCRIPTION:Our Learn to Row program is on again this Saturday from 6:50am to 8:30am. \nSign up for the 6 week introductory course to participate. \nBe sure to bring sun protection\, water bottle\, thongs or sandals\, a towel and change of clothes.
URL:https://manningriverrowingclub.org.au/event/learn-to-row/2026-04-25/
LOCATION:Rowing Club\, Endeavour Place\, Taree\,\, NSW\, 2430\, Australia
END:VEVENT
BEGIN:VEVENT
DTSTART;TZID=Australia/Sydney:20260428T153000
DTEND;TZID=Australia/Sydney:20260428T173000
DTSTAMP:20260418T075604
CREATED:20241009T003759Z
LAST-MODIFIED:20241009T004436Z
UID:10000615-1777390200-1777397400@manningriverrowingclub.org.au
SUMMARY:Tuesday Arvo Ergs
DESCRIPTION:Every Tuesday from 3:30pm to 5:30pm \nOpen to all members. Develop skills to improve your sequencing and improve fitness. Suitable for all levels of ability and fitness. \nContact Hugh McLeod to take part Ph: 0403 703 026
URL:https://manningriverrowingclub.org.au/event/tuesday-arvo-ergs/2026-04-28/
END:VEVENT
BEGIN:VEVENT
DTSTART;TZID=Australia/Sydney:20260430T153000
DTEND;TZID=Australia/Sydney:20260430T173000
DTSTAMP:20260418T075604
CREATED:20241009T003516Z
LAST-MODIFIED:20241009T004145Z
UID:10000355-1777563000-1777570200@manningriverrowingclub.org.au
SUMMARY:Thursday Arvo Ergs
DESCRIPTION:Every Thursday from 3:30pm to 5:30pm \nOpen to all members. Develop skills to improve your sequencing and improve fitness. Suitable for all levels of ability and fitness. \nContact Hugh McLeod to take part Ph: 0403 703 026 \n  \n \n 
URL:https://manningriverrowingclub.org.au/event/thursday-arvo-ergs/2026-04-30/
END:VEVENT
BEGIN:VEVENT
DTSTART;TZID=Australia/Sydney:20260502T070000
DTEND;TZID=Australia/Sydney:20260502T083000
DTSTAMP:20260418T075604
CREATED:20241004T024045Z
LAST-MODIFIED:20241126T235515Z
UID:10000090-1777705200-1777710600@manningriverrowingclub.org.au
SUMMARY:Learn to Row
DESCRIPTION:Our Learn to Row program is on again this Saturday from 6:50am to 8:30am. \nSign up for the 6 week introductory course to participate. \nBe sure to bring sun protection\, water bottle\, thongs or sandals\, a towel and change of clothes.
URL:https://manningriverrowingclub.org.au/event/learn-to-row/2026-05-02/
LOCATION:Rowing Club\, Endeavour Place\, Taree\,\, NSW\, 2430\, Australia
END:VEVENT
BEGIN:VEVENT
DTSTART;TZID=Australia/Sydney:20260505T153000
DTEND;TZID=Australia/Sydney:20260505T173000
DTSTAMP:20260418T075604
CREATED:20241009T003759Z
LAST-MODIFIED:20241009T004436Z
UID:10000616-1777995000-1778002200@manningriverrowingclub.org.au
SUMMARY:Tuesday Arvo Ergs
DESCRIPTION:Every Tuesday from 3:30pm to 5:30pm \nOpen to all members. Develop skills to improve your sequencing and improve fitness. Suitable for all levels of ability and fitness. \nContact Hugh McLeod to take part Ph: 0403 703 026
URL:https://manningriverrowingclub.org.au/event/tuesday-arvo-ergs/2026-05-05/
END:VEVENT
BEGIN:VEVENT
DTSTART;TZID=Australia/Sydney:20260507T153000
DTEND;TZID=Australia/Sydney:20260507T173000
DTSTAMP:20260418T075604
CREATED:20241009T003516Z
LAST-MODIFIED:20241009T004145Z
UID:10000356-1778167800-1778175000@manningriverrowingclub.org.au
SUMMARY:Thursday Arvo Ergs
DESCRIPTION:Every Thursday from 3:30pm to 5:30pm \nOpen to all members. Develop skills to improve your sequencing and improve fitness. Suitable for all levels of ability and fitness. \nContact Hugh McLeod to take part Ph: 0403 703 026 \n  \n \n 
URL:https://manningriverrowingclub.org.au/event/thursday-arvo-ergs/2026-05-07/
END:VEVENT
BEGIN:VEVENT
DTSTART;TZID=Australia/Sydney:20260509T070000
DTEND;TZID=Australia/Sydney:20260509T083000
DTSTAMP:20260418T075604
CREATED:20241004T024045Z
LAST-MODIFIED:20241126T235515Z
UID:10000091-1778310000-1778315400@manningriverrowingclub.org.au
SUMMARY:Learn to Row
DESCRIPTION:Our Learn to Row program is on again this Saturday from 6:50am to 8:30am. \nSign up for the 6 week introductory course to participate. \nBe sure to bring sun protection\, water bottle\, thongs or sandals\, a towel and change of clothes.
URL:https://manningriverrowingclub.org.au/event/learn-to-row/2026-05-09/
LOCATION:Rowing Club\, Endeavour Place\, Taree\,\, NSW\, 2430\, Australia
END:VEVENT
BEGIN:VEVENT
DTSTART;TZID=Australia/Sydney:20260512T153000
DTEND;TZID=Australia/Sydney:20260512T173000
DTSTAMP:20260418T075604
CREATED:20241009T003759Z
LAST-MODIFIED:20241009T004436Z
UID:10000617-1778599800-1778607000@manningriverrowingclub.org.au
SUMMARY:Tuesday Arvo Ergs
DESCRIPTION:Every Tuesday from 3:30pm to 5:30pm \nOpen to all members. Develop skills to improve your sequencing and improve fitness. Suitable for all levels of ability and fitness. \nContact Hugh McLeod to take part Ph: 0403 703 026
URL:https://manningriverrowingclub.org.au/event/tuesday-arvo-ergs/2026-05-12/
END:VEVENT
BEGIN:VEVENT
DTSTART;TZID=Australia/Sydney:20260514T153000
DTEND;TZID=Australia/Sydney:20260514T173000
DTSTAMP:20260418T075604
CREATED:20241009T003516Z
LAST-MODIFIED:20241009T004145Z
UID:10000357-1778772600-1778779800@manningriverrowingclub.org.au
SUMMARY:Thursday Arvo Ergs
DESCRIPTION:Every Thursday from 3:30pm to 5:30pm \nOpen to all members. Develop skills to improve your sequencing and improve fitness. Suitable for all levels of ability and fitness. \nContact Hugh McLeod to take part Ph: 0403 703 026 \n  \n \n 
URL:https://manningriverrowingclub.org.au/event/thursday-arvo-ergs/2026-05-14/
END:VEVENT
BEGIN:VEVENT
DTSTART;TZID=Australia/Sydney:20260516T070000
DTEND;TZID=Australia/Sydney:20260516T083000
DTSTAMP:20260418T075604
CREATED:20241004T024045Z
LAST-MODIFIED:20241126T235515Z
UID:10000092-1778914800-1778920200@manningriverrowingclub.org.au
SUMMARY:Learn to Row
DESCRIPTION:Our Learn to Row program is on again this Saturday from 6:50am to 8:30am. \nSign up for the 6 week introductory course to participate. \nBe sure to bring sun protection\, water bottle\, thongs or sandals\, a towel and change of clothes.
URL:https://manningriverrowingclub.org.au/event/learn-to-row/2026-05-16/
LOCATION:Rowing Club\, Endeavour Place\, Taree\,\, NSW\, 2430\, Australia
END:VEVENT
BEGIN:VEVENT
DTSTART;TZID=Australia/Sydney:20260519T153000
DTEND;TZID=Australia/Sydney:20260519T173000
DTSTAMP:20260418T075604
CREATED:20241009T003759Z
LAST-MODIFIED:20241009T004436Z
UID:10000618-1779204600-1779211800@manningriverrowingclub.org.au
SUMMARY:Tuesday Arvo Ergs
DESCRIPTION:Every Tuesday from 3:30pm to 5:30pm \nOpen to all members. Develop skills to improve your sequencing and improve fitness. Suitable for all levels of ability and fitness. \nContact Hugh McLeod to take part Ph: 0403 703 026
URL:https://manningriverrowingclub.org.au/event/tuesday-arvo-ergs/2026-05-19/
END:VEVENT
BEGIN:VEVENT
DTSTART;TZID=Australia/Sydney:20260521T153000
DTEND;TZID=Australia/Sydney:20260521T173000
DTSTAMP:20260418T075604
CREATED:20241009T003516Z
LAST-MODIFIED:20241009T004145Z
UID:10000358-1779377400-1779384600@manningriverrowingclub.org.au
SUMMARY:Thursday Arvo Ergs
DESCRIPTION:Every Thursday from 3:30pm to 5:30pm \nOpen to all members. Develop skills to improve your sequencing and improve fitness. Suitable for all levels of ability and fitness. \nContact Hugh McLeod to take part Ph: 0403 703 026 \n  \n \n 
URL:https://manningriverrowingclub.org.au/event/thursday-arvo-ergs/2026-05-21/
END:VEVENT
BEGIN:VEVENT
DTSTART;TZID=Australia/Sydney:20260523T070000
DTEND;TZID=Australia/Sydney:20260523T083000
DTSTAMP:20260418T075604
CREATED:20241004T024045Z
LAST-MODIFIED:20241126T235515Z
UID:10000093-1779519600-1779525000@manningriverrowingclub.org.au
SUMMARY:Learn to Row
DESCRIPTION:Our Learn to Row program is on again this Saturday from 6:50am to 8:30am. \nSign up for the 6 week introductory course to participate. \nBe sure to bring sun protection\, water bottle\, thongs or sandals\, a towel and change of clothes.
URL:https://manningriverrowingclub.org.au/event/learn-to-row/2026-05-23/
LOCATION:Rowing Club\, Endeavour Place\, Taree\,\, NSW\, 2430\, Australia
END:VEVENT
BEGIN:VEVENT
DTSTART;TZID=Australia/Sydney:20260526T153000
DTEND;TZID=Australia/Sydney:20260526T173000
DTSTAMP:20260418T075604
CREATED:20241009T003759Z
LAST-MODIFIED:20241009T004436Z
UID:10000619-1779809400-1779816600@manningriverrowingclub.org.au
SUMMARY:Tuesday Arvo Ergs
DESCRIPTION:Every Tuesday from 3:30pm to 5:30pm \nOpen to all members. Develop skills to improve your sequencing and improve fitness. Suitable for all levels of ability and fitness. \nContact Hugh McLeod to take part Ph: 0403 703 026
URL:https://manningriverrowingclub.org.au/event/tuesday-arvo-ergs/2026-05-26/
END:VEVENT
BEGIN:VEVENT
DTSTART;TZID=Australia/Sydney:20260528T153000
DTEND;TZID=Australia/Sydney:20260528T173000
DTSTAMP:20260418T075604
CREATED:20241009T003516Z
LAST-MODIFIED:20241009T004145Z
UID:10000359-1779982200-1779989400@manningriverrowingclub.org.au
SUMMARY:Thursday Arvo Ergs
DESCRIPTION:Every Thursday from 3:30pm to 5:30pm \nOpen to all members. Develop skills to improve your sequencing and improve fitness. Suitable for all levels of ability and fitness. \nContact Hugh McLeod to take part Ph: 0403 703 026 \n  \n \n 
URL:https://manningriverrowingclub.org.au/event/thursday-arvo-ergs/2026-05-28/
END:VEVENT
BEGIN:VEVENT
DTSTART;TZID=Australia/Sydney:20260530T070000
DTEND;TZID=Australia/Sydney:20260530T083000
DTSTAMP:20260418T075604
CREATED:20241004T024045Z
LAST-MODIFIED:20241126T235515Z
UID:10000094-1780124400-1780129800@manningriverrowingclub.org.au
SUMMARY:Learn to Row
DESCRIPTION:Our Learn to Row program is on again this Saturday from 6:50am to 8:30am. \nSign up for the 6 week introductory course to participate. \nBe sure to bring sun protection\, water bottle\, thongs or sandals\, a towel and change of clothes.
URL:https://manningriverrowingclub.org.au/event/learn-to-row/2026-05-30/
LOCATION:Rowing Club\, Endeavour Place\, Taree\,\, NSW\, 2430\, Australia
END:VEVENT
BEGIN:VEVENT
DTSTART;TZID=Australia/Sydney:20260602T153000
DTEND;TZID=Australia/Sydney:20260602T173000
DTSTAMP:20260418T075604
CREATED:20241009T003759Z
LAST-MODIFIED:20241009T004436Z
UID:10000620-1780414200-1780421400@manningriverrowingclub.org.au
SUMMARY:Tuesday Arvo Ergs
DESCRIPTION:Every Tuesday from 3:30pm to 5:30pm \nOpen to all members. Develop skills to improve your sequencing and improve fitness. Suitable for all levels of ability and fitness. \nContact Hugh McLeod to take part Ph: 0403 703 026
URL:https://manningriverrowingclub.org.au/event/tuesday-arvo-ergs/2026-06-02/
END:VEVENT
BEGIN:VEVENT
DTSTART;TZID=Australia/Sydney:20260604T153000
DTEND;TZID=Australia/Sydney:20260604T173000
DTSTAMP:20260418T075604
CREATED:20241009T003516Z
LAST-MODIFIED:20241009T004145Z
UID:10000360-1780587000-1780594200@manningriverrowingclub.org.au
SUMMARY:Thursday Arvo Ergs
DESCRIPTION:Every Thursday from 3:30pm to 5:30pm \nOpen to all members. Develop skills to improve your sequencing and improve fitness. Suitable for all levels of ability and fitness. \nContact Hugh McLeod to take part Ph: 0403 703 026 \n  \n \n 
URL:https://manningriverrowingclub.org.au/event/thursday-arvo-ergs/2026-06-04/
END:VEVENT
BEGIN:VEVENT
DTSTART;TZID=Australia/Sydney:20260606T070000
DTEND;TZID=Australia/Sydney:20260606T083000
DTSTAMP:20260418T075604
CREATED:20241004T024045Z
LAST-MODIFIED:20241126T235515Z
UID:10000095-1780729200-1780734600@manningriverrowingclub.org.au
SUMMARY:Learn to Row
DESCRIPTION:Our Learn to Row program is on again this Saturday from 6:50am to 8:30am. \nSign up for the 6 week introductory course to participate. \nBe sure to bring sun protection\, water bottle\, thongs or sandals\, a towel and change of clothes.
URL:https://manningriverrowingclub.org.au/event/learn-to-row/2026-06-06/
LOCATION:Rowing Club\, Endeavour Place\, Taree\,\, NSW\, 2430\, Australia
END:VEVENT
BEGIN:VEVENT
DTSTART;TZID=Australia/Sydney:20260609T153000
DTEND;TZID=Australia/Sydney:20260609T173000
DTSTAMP:20260418T075604
CREATED:20241009T003759Z
LAST-MODIFIED:20241009T004436Z
UID:10000621-1781019000-1781026200@manningriverrowingclub.org.au
SUMMARY:Tuesday Arvo Ergs
DESCRIPTION:Every Tuesday from 3:30pm to 5:30pm \nOpen to all members. Develop skills to improve your sequencing and improve fitness. Suitable for all levels of ability and fitness. \nContact Hugh McLeod to take part Ph: 0403 703 026
URL:https://manningriverrowingclub.org.au/event/tuesday-arvo-ergs/2026-06-09/
END:VEVENT
BEGIN:VEVENT
DTSTART;TZID=Australia/Sydney:20260611T153000
DTEND;TZID=Australia/Sydney:20260611T173000
DTSTAMP:20260418T075604
CREATED:20241009T003516Z
LAST-MODIFIED:20241009T004145Z
UID:10000361-1781191800-1781199000@manningriverrowingclub.org.au
SUMMARY:Thursday Arvo Ergs
DESCRIPTION:Every Thursday from 3:30pm to 5:30pm \nOpen to all members. Develop skills to improve your sequencing and improve fitness. Suitable for all levels of ability and fitness. \nContact Hugh McLeod to take part Ph: 0403 703 026 \n  \n \n 
URL:https://manningriverrowingclub.org.au/event/thursday-arvo-ergs/2026-06-11/
END:VEVENT
BEGIN:VEVENT
DTSTART;TZID=Australia/Sydney:20260613T070000
DTEND;TZID=Australia/Sydney:20260613T083000
DTSTAMP:20260418T075604
CREATED:20241004T024045Z
LAST-MODIFIED:20241126T235515Z
UID:10000096-1781334000-1781339400@manningriverrowingclub.org.au
SUMMARY:Learn to Row
DESCRIPTION:Our Learn to Row program is on again this Saturday from 6:50am to 8:30am. \nSign up for the 6 week introductory course to participate. \nBe sure to bring sun protection\, water bottle\, thongs or sandals\, a towel and change of clothes.
URL:https://manningriverrowingclub.org.au/event/learn-to-row/2026-06-13/
LOCATION:Rowing Club\, Endeavour Place\, Taree\,\, NSW\, 2430\, Australia
END:VEVENT
BEGIN:VEVENT
DTSTART;TZID=Australia/Sydney:20260616T153000
DTEND;TZID=Australia/Sydney:20260616T173000
DTSTAMP:20260418T075604
CREATED:20241009T003759Z
LAST-MODIFIED:20241009T004436Z
UID:10000622-1781623800-1781631000@manningriverrowingclub.org.au
SUMMARY:Tuesday Arvo Ergs
DESCRIPTION:Every Tuesday from 3:30pm to 5:30pm \nOpen to all members. Develop skills to improve your sequencing and improve fitness. Suitable for all levels of ability and fitness. \nContact Hugh McLeod to take part Ph: 0403 703 026
URL:https://manningriverrowingclub.org.au/event/tuesday-arvo-ergs/2026-06-16/
END:VEVENT
BEGIN:VEVENT
DTSTART;TZID=Australia/Sydney:20260618T153000
DTEND;TZID=Australia/Sydney:20260618T173000
DTSTAMP:20260418T075604
CREATED:20241009T003516Z
LAST-MODIFIED:20241009T004145Z
UID:10000362-1781796600-1781803800@manningriverrowingclub.org.au
SUMMARY:Thursday Arvo Ergs
DESCRIPTION:Every Thursday from 3:30pm to 5:30pm \nOpen to all members. Develop skills to improve your sequencing and improve fitness. Suitable for all levels of ability and fitness. \nContact Hugh McLeod to take part Ph: 0403 703 026 \n  \n \n 
URL:https://manningriverrowingclub.org.au/event/thursday-arvo-ergs/2026-06-18/
END:VEVENT
BEGIN:VEVENT
DTSTART;TZID=Australia/Sydney:20260620T070000
DTEND;TZID=Australia/Sydney:20260620T083000
DTSTAMP:20260418T075604
CREATED:20241004T024045Z
LAST-MODIFIED:20241126T235515Z
UID:10000097-1781938800-1781944200@manningriverrowingclub.org.au
SUMMARY:Learn to Row
DESCRIPTION:Our Learn to Row program is on again this Saturday from 6:50am to 8:30am. \nSign up for the 6 week introductory course to participate. \nBe sure to bring sun protection\, water bottle\, thongs or sandals\, a towel and change of clothes.
URL:https://manningriverrowingclub.org.au/event/learn-to-row/2026-06-20/
LOCATION:Rowing Club\, Endeavour Place\, Taree\,\, NSW\, 2430\, Australia
END:VEVENT
BEGIN:VEVENT
DTSTART;TZID=Australia/Sydney:20260623T153000
DTEND;TZID=Australia/Sydney:20260623T173000
DTSTAMP:20260418T075604
CREATED:20241009T003759Z
LAST-MODIFIED:20241009T004436Z
UID:10000623-1782228600-1782235800@manningriverrowingclub.org.au
SUMMARY:Tuesday Arvo Ergs
DESCRIPTION:Every Tuesday from 3:30pm to 5:30pm \nOpen to all members. Develop skills to improve your sequencing and improve fitness. Suitable for all levels of ability and fitness. \nContact Hugh McLeod to take part Ph: 0403 703 026
URL:https://manningriverrowingclub.org.au/event/tuesday-arvo-ergs/2026-06-23/
END:VEVENT
BEGIN:VEVENT
DTSTART;TZID=Australia/Sydney:20260625T153000
DTEND;TZID=Australia/Sydney:20260625T173000
DTSTAMP:20260418T075604
CREATED:20241009T003516Z
LAST-MODIFIED:20241009T004145Z
UID:10000363-1782401400-1782408600@manningriverrowingclub.org.au
SUMMARY:Thursday Arvo Ergs
DESCRIPTION:Every Thursday from 3:30pm to 5:30pm \nOpen to all members. Develop skills to improve your sequencing and improve fitness. Suitable for all levels of ability and fitness. \nContact Hugh McLeod to take part Ph: 0403 703 026 \n  \n \n 
URL:https://manningriverrowingclub.org.au/event/thursday-arvo-ergs/2026-06-25/
END:VEVENT
END:VCALENDAR