BEGIN:VCALENDAR
VERSION:2.0
PRODID:-//Manning River Rowing Club - ECPv6.6.4//NONSGML v1.0//EN
CALSCALE:GREGORIAN
METHOD:PUBLISH
X-WR-CALNAME:Manning River Rowing Club
X-ORIGINAL-URL:https://manningriverrowingclub.org.au
X-WR-CALDESC:Events for Manning River Rowing Club
REFRESH-INTERVAL;VALUE=DURATION:PT1H
X-Robots-Tag:noindex
X-PUBLISHED-TTL:PT1H
BEGIN:VTIMEZONE
TZID:Australia/Sydney
BEGIN:STANDARD
TZOFFSETFROM:+1100
TZOFFSETTO:+1000
TZNAME:AEST
DTSTART:20280401T160000
END:STANDARD
BEGIN:DAYLIGHT
TZOFFSETFROM:+1000
TZOFFSETTO:+1100
TZNAME:AEDT
DTSTART:20280930T160000
END:DAYLIGHT
BEGIN:STANDARD
TZOFFSETFROM:+1100
TZOFFSETTO:+1000
TZNAME:AEST
DTSTART:20290331T160000
END:STANDARD
BEGIN:DAYLIGHT
TZOFFSETFROM:+1000
TZOFFSETTO:+1100
TZNAME:AEDT
DTSTART:20291006T160000
END:DAYLIGHT
END:VTIMEZONE
BEGIN:VEVENT
DTSTART;TZID=Australia/Sydney:20280812T070000
DTEND;TZID=Australia/Sydney:20280812T083000
DTSTAMP:20260422T211001
CREATED:20241004T024045Z
LAST-MODIFIED:20241126T235515Z
UID:10000209-1849676400-1849681800@manningriverrowingclub.org.au
SUMMARY:Learn to Row
DESCRIPTION:Our Learn to Row program is on again this Saturday from 6:50am to 8:30am. \nSign up for the 6 week introductory course to participate. \nBe sure to bring sun protection\, water bottle\, thongs or sandals\, a towel and change of clothes.
URL:https://manningriverrowingclub.org.au/event/learn-to-row/2028-08-12/
LOCATION:Rowing Club\, Endeavour Place\, Taree\,\, NSW\, 2430\, Australia
END:VEVENT
BEGIN:VEVENT
DTSTART;TZID=Australia/Sydney:20280819T070000
DTEND;TZID=Australia/Sydney:20280819T083000
DTSTAMP:20260422T211001
CREATED:20241004T024045Z
LAST-MODIFIED:20241126T235515Z
UID:10000210-1850281200-1850286600@manningriverrowingclub.org.au
SUMMARY:Learn to Row
DESCRIPTION:Our Learn to Row program is on again this Saturday from 6:50am to 8:30am. \nSign up for the 6 week introductory course to participate. \nBe sure to bring sun protection\, water bottle\, thongs or sandals\, a towel and change of clothes.
URL:https://manningriverrowingclub.org.au/event/learn-to-row/2028-08-19/
LOCATION:Rowing Club\, Endeavour Place\, Taree\,\, NSW\, 2430\, Australia
END:VEVENT
BEGIN:VEVENT
DTSTART;TZID=Australia/Sydney:20280826T070000
DTEND;TZID=Australia/Sydney:20280826T083000
DTSTAMP:20260422T211001
CREATED:20241004T024045Z
LAST-MODIFIED:20241126T235515Z
UID:10000211-1850886000-1850891400@manningriverrowingclub.org.au
SUMMARY:Learn to Row
DESCRIPTION:Our Learn to Row program is on again this Saturday from 6:50am to 8:30am. \nSign up for the 6 week introductory course to participate. \nBe sure to bring sun protection\, water bottle\, thongs or sandals\, a towel and change of clothes.
URL:https://manningriverrowingclub.org.au/event/learn-to-row/2028-08-26/
LOCATION:Rowing Club\, Endeavour Place\, Taree\,\, NSW\, 2430\, Australia
END:VEVENT
BEGIN:VEVENT
DTSTART;TZID=Australia/Sydney:20280902T070000
DTEND;TZID=Australia/Sydney:20280902T083000
DTSTAMP:20260422T211001
CREATED:20241004T024045Z
LAST-MODIFIED:20241126T235515Z
UID:10000212-1851490800-1851496200@manningriverrowingclub.org.au
SUMMARY:Learn to Row
DESCRIPTION:Our Learn to Row program is on again this Saturday from 6:50am to 8:30am. \nSign up for the 6 week introductory course to participate. \nBe sure to bring sun protection\, water bottle\, thongs or sandals\, a towel and change of clothes.
URL:https://manningriverrowingclub.org.au/event/learn-to-row/2028-09-02/
LOCATION:Rowing Club\, Endeavour Place\, Taree\,\, NSW\, 2430\, Australia
END:VEVENT
BEGIN:VEVENT
DTSTART;TZID=Australia/Sydney:20280909T070000
DTEND;TZID=Australia/Sydney:20280909T083000
DTSTAMP:20260422T211001
CREATED:20241004T024045Z
LAST-MODIFIED:20241126T235515Z
UID:10000213-1852095600-1852101000@manningriverrowingclub.org.au
SUMMARY:Learn to Row
DESCRIPTION:Our Learn to Row program is on again this Saturday from 6:50am to 8:30am. \nSign up for the 6 week introductory course to participate. \nBe sure to bring sun protection\, water bottle\, thongs or sandals\, a towel and change of clothes.
URL:https://manningriverrowingclub.org.au/event/learn-to-row/2028-09-09/
LOCATION:Rowing Club\, Endeavour Place\, Taree\,\, NSW\, 2430\, Australia
END:VEVENT
BEGIN:VEVENT
DTSTART;TZID=Australia/Sydney:20280916T070000
DTEND;TZID=Australia/Sydney:20280916T083000
DTSTAMP:20260422T211001
CREATED:20241004T024045Z
LAST-MODIFIED:20241126T235515Z
UID:10000214-1852700400-1852705800@manningriverrowingclub.org.au
SUMMARY:Learn to Row
DESCRIPTION:Our Learn to Row program is on again this Saturday from 6:50am to 8:30am. \nSign up for the 6 week introductory course to participate. \nBe sure to bring sun protection\, water bottle\, thongs or sandals\, a towel and change of clothes.
URL:https://manningriverrowingclub.org.au/event/learn-to-row/2028-09-16/
LOCATION:Rowing Club\, Endeavour Place\, Taree\,\, NSW\, 2430\, Australia
END:VEVENT
BEGIN:VEVENT
DTSTART;TZID=Australia/Sydney:20280923T070000
DTEND;TZID=Australia/Sydney:20280923T083000
DTSTAMP:20260422T211001
CREATED:20241004T024045Z
LAST-MODIFIED:20241126T235515Z
UID:10000215-1853305200-1853310600@manningriverrowingclub.org.au
SUMMARY:Learn to Row
DESCRIPTION:Our Learn to Row program is on again this Saturday from 6:50am to 8:30am. \nSign up for the 6 week introductory course to participate. \nBe sure to bring sun protection\, water bottle\, thongs or sandals\, a towel and change of clothes.
URL:https://manningriverrowingclub.org.au/event/learn-to-row/2028-09-23/
LOCATION:Rowing Club\, Endeavour Place\, Taree\,\, NSW\, 2430\, Australia
END:VEVENT
BEGIN:VEVENT
DTSTART;TZID=Australia/Sydney:20280930T070000
DTEND;TZID=Australia/Sydney:20280930T083000
DTSTAMP:20260422T211001
CREATED:20241004T024045Z
LAST-MODIFIED:20241126T235515Z
UID:10000216-1853910000-1853915400@manningriverrowingclub.org.au
SUMMARY:Learn to Row
DESCRIPTION:Our Learn to Row program is on again this Saturday from 6:50am to 8:30am. \nSign up for the 6 week introductory course to participate. \nBe sure to bring sun protection\, water bottle\, thongs or sandals\, a towel and change of clothes.
URL:https://manningriverrowingclub.org.au/event/learn-to-row/2028-09-30/
LOCATION:Rowing Club\, Endeavour Place\, Taree\,\, NSW\, 2430\, Australia
END:VEVENT
BEGIN:VEVENT
DTSTART;TZID=Australia/Sydney:20281007T070000
DTEND;TZID=Australia/Sydney:20281007T083000
DTSTAMP:20260422T211001
CREATED:20241004T024045Z
LAST-MODIFIED:20241126T235515Z
UID:10000217-1854514800-1854520200@manningriverrowingclub.org.au
SUMMARY:Learn to Row
DESCRIPTION:Our Learn to Row program is on again this Saturday from 6:50am to 8:30am. \nSign up for the 6 week introductory course to participate. \nBe sure to bring sun protection\, water bottle\, thongs or sandals\, a towel and change of clothes.
URL:https://manningriverrowingclub.org.au/event/learn-to-row/2028-10-07/
LOCATION:Rowing Club\, Endeavour Place\, Taree\,\, NSW\, 2430\, Australia
END:VEVENT
BEGIN:VEVENT
DTSTART;TZID=Australia/Sydney:20281014T070000
DTEND;TZID=Australia/Sydney:20281014T083000
DTSTAMP:20260422T211001
CREATED:20241004T024045Z
LAST-MODIFIED:20241126T235515Z
UID:10000218-1855119600-1855125000@manningriverrowingclub.org.au
SUMMARY:Learn to Row
DESCRIPTION:Our Learn to Row program is on again this Saturday from 6:50am to 8:30am. \nSign up for the 6 week introductory course to participate. \nBe sure to bring sun protection\, water bottle\, thongs or sandals\, a towel and change of clothes.
URL:https://manningriverrowingclub.org.au/event/learn-to-row/2028-10-14/
LOCATION:Rowing Club\, Endeavour Place\, Taree\,\, NSW\, 2430\, Australia
END:VEVENT
BEGIN:VEVENT
DTSTART;TZID=Australia/Sydney:20281021T070000
DTEND;TZID=Australia/Sydney:20281021T083000
DTSTAMP:20260422T211001
CREATED:20241004T024045Z
LAST-MODIFIED:20241126T235515Z
UID:10000219-1855724400-1855729800@manningriverrowingclub.org.au
SUMMARY:Learn to Row
DESCRIPTION:Our Learn to Row program is on again this Saturday from 6:50am to 8:30am. \nSign up for the 6 week introductory course to participate. \nBe sure to bring sun protection\, water bottle\, thongs or sandals\, a towel and change of clothes.
URL:https://manningriverrowingclub.org.au/event/learn-to-row/2028-10-21/
LOCATION:Rowing Club\, Endeavour Place\, Taree\,\, NSW\, 2430\, Australia
END:VEVENT
BEGIN:VEVENT
DTSTART;TZID=Australia/Sydney:20281028T070000
DTEND;TZID=Australia/Sydney:20281028T083000
DTSTAMP:20260422T211001
CREATED:20241004T024045Z
LAST-MODIFIED:20241126T235515Z
UID:10000220-1856329200-1856334600@manningriverrowingclub.org.au
SUMMARY:Learn to Row
DESCRIPTION:Our Learn to Row program is on again this Saturday from 6:50am to 8:30am. \nSign up for the 6 week introductory course to participate. \nBe sure to bring sun protection\, water bottle\, thongs or sandals\, a towel and change of clothes.
URL:https://manningriverrowingclub.org.au/event/learn-to-row/2028-10-28/
LOCATION:Rowing Club\, Endeavour Place\, Taree\,\, NSW\, 2430\, Australia
END:VEVENT
BEGIN:VEVENT
DTSTART;TZID=Australia/Sydney:20281104T070000
DTEND;TZID=Australia/Sydney:20281104T083000
DTSTAMP:20260422T211001
CREATED:20241004T024045Z
LAST-MODIFIED:20241126T235515Z
UID:10000221-1856934000-1856939400@manningriverrowingclub.org.au
SUMMARY:Learn to Row
DESCRIPTION:Our Learn to Row program is on again this Saturday from 6:50am to 8:30am. \nSign up for the 6 week introductory course to participate. \nBe sure to bring sun protection\, water bottle\, thongs or sandals\, a towel and change of clothes.
URL:https://manningriverrowingclub.org.au/event/learn-to-row/2028-11-04/
LOCATION:Rowing Club\, Endeavour Place\, Taree\,\, NSW\, 2430\, Australia
END:VEVENT
BEGIN:VEVENT
DTSTART;TZID=Australia/Sydney:20281111T070000
DTEND;TZID=Australia/Sydney:20281111T083000
DTSTAMP:20260422T211001
CREATED:20241004T024045Z
LAST-MODIFIED:20241126T235515Z
UID:10000222-1857538800-1857544200@manningriverrowingclub.org.au
SUMMARY:Learn to Row
DESCRIPTION:Our Learn to Row program is on again this Saturday from 6:50am to 8:30am. \nSign up for the 6 week introductory course to participate. \nBe sure to bring sun protection\, water bottle\, thongs or sandals\, a towel and change of clothes.
URL:https://manningriverrowingclub.org.au/event/learn-to-row/2028-11-11/
LOCATION:Rowing Club\, Endeavour Place\, Taree\,\, NSW\, 2430\, Australia
END:VEVENT
BEGIN:VEVENT
DTSTART;TZID=Australia/Sydney:20281118T070000
DTEND;TZID=Australia/Sydney:20281118T083000
DTSTAMP:20260422T211001
CREATED:20241004T024045Z
LAST-MODIFIED:20241126T235515Z
UID:10000223-1858143600-1858149000@manningriverrowingclub.org.au
SUMMARY:Learn to Row
DESCRIPTION:Our Learn to Row program is on again this Saturday from 6:50am to 8:30am. \nSign up for the 6 week introductory course to participate. \nBe sure to bring sun protection\, water bottle\, thongs or sandals\, a towel and change of clothes.
URL:https://manningriverrowingclub.org.au/event/learn-to-row/2028-11-18/
LOCATION:Rowing Club\, Endeavour Place\, Taree\,\, NSW\, 2430\, Australia
END:VEVENT
BEGIN:VEVENT
DTSTART;TZID=Australia/Sydney:20281125T070000
DTEND;TZID=Australia/Sydney:20281125T083000
DTSTAMP:20260422T211001
CREATED:20241004T024045Z
LAST-MODIFIED:20241126T235515Z
UID:10000224-1858748400-1858753800@manningriverrowingclub.org.au
SUMMARY:Learn to Row
DESCRIPTION:Our Learn to Row program is on again this Saturday from 6:50am to 8:30am. \nSign up for the 6 week introductory course to participate. \nBe sure to bring sun protection\, water bottle\, thongs or sandals\, a towel and change of clothes.
URL:https://manningriverrowingclub.org.au/event/learn-to-row/2028-11-25/
LOCATION:Rowing Club\, Endeavour Place\, Taree\,\, NSW\, 2430\, Australia
END:VEVENT
BEGIN:VEVENT
DTSTART;TZID=Australia/Sydney:20281202T070000
DTEND;TZID=Australia/Sydney:20281202T083000
DTSTAMP:20260422T211001
CREATED:20241004T024045Z
LAST-MODIFIED:20241126T235515Z
UID:10000225-1859353200-1859358600@manningriverrowingclub.org.au
SUMMARY:Learn to Row
DESCRIPTION:Our Learn to Row program is on again this Saturday from 6:50am to 8:30am. \nSign up for the 6 week introductory course to participate. \nBe sure to bring sun protection\, water bottle\, thongs or sandals\, a towel and change of clothes.
URL:https://manningriverrowingclub.org.au/event/learn-to-row/2028-12-02/
LOCATION:Rowing Club\, Endeavour Place\, Taree\,\, NSW\, 2430\, Australia
END:VEVENT
BEGIN:VEVENT
DTSTART;TZID=Australia/Sydney:20281209T070000
DTEND;TZID=Australia/Sydney:20281209T083000
DTSTAMP:20260422T211001
CREATED:20241004T024045Z
LAST-MODIFIED:20241126T235515Z
UID:10000226-1859958000-1859963400@manningriverrowingclub.org.au
SUMMARY:Learn to Row
DESCRIPTION:Our Learn to Row program is on again this Saturday from 6:50am to 8:30am. \nSign up for the 6 week introductory course to participate. \nBe sure to bring sun protection\, water bottle\, thongs or sandals\, a towel and change of clothes.
URL:https://manningriverrowingclub.org.au/event/learn-to-row/2028-12-09/
LOCATION:Rowing Club\, Endeavour Place\, Taree\,\, NSW\, 2430\, Australia
END:VEVENT
BEGIN:VEVENT
DTSTART;TZID=Australia/Sydney:20281216T070000
DTEND;TZID=Australia/Sydney:20281216T083000
DTSTAMP:20260422T211001
CREATED:20241004T024045Z
LAST-MODIFIED:20241126T235515Z
UID:10000227-1860562800-1860568200@manningriverrowingclub.org.au
SUMMARY:Learn to Row
DESCRIPTION:Our Learn to Row program is on again this Saturday from 6:50am to 8:30am. \nSign up for the 6 week introductory course to participate. \nBe sure to bring sun protection\, water bottle\, thongs or sandals\, a towel and change of clothes.
URL:https://manningriverrowingclub.org.au/event/learn-to-row/2028-12-16/
LOCATION:Rowing Club\, Endeavour Place\, Taree\,\, NSW\, 2430\, Australia
END:VEVENT
BEGIN:VEVENT
DTSTART;TZID=Australia/Sydney:20281223T070000
DTEND;TZID=Australia/Sydney:20281223T083000
DTSTAMP:20260422T211001
CREATED:20241004T024045Z
LAST-MODIFIED:20241126T235515Z
UID:10000228-1861167600-1861173000@manningriverrowingclub.org.au
SUMMARY:Learn to Row
DESCRIPTION:Our Learn to Row program is on again this Saturday from 6:50am to 8:30am. \nSign up for the 6 week introductory course to participate. \nBe sure to bring sun protection\, water bottle\, thongs or sandals\, a towel and change of clothes.
URL:https://manningriverrowingclub.org.au/event/learn-to-row/2028-12-23/
LOCATION:Rowing Club\, Endeavour Place\, Taree\,\, NSW\, 2430\, Australia
END:VEVENT
BEGIN:VEVENT
DTSTART;TZID=Australia/Sydney:20281230T070000
DTEND;TZID=Australia/Sydney:20281230T083000
DTSTAMP:20260422T211001
CREATED:20241004T024045Z
LAST-MODIFIED:20241126T235515Z
UID:10000229-1861772400-1861777800@manningriverrowingclub.org.au
SUMMARY:Learn to Row
DESCRIPTION:Our Learn to Row program is on again this Saturday from 6:50am to 8:30am. \nSign up for the 6 week introductory course to participate. \nBe sure to bring sun protection\, water bottle\, thongs or sandals\, a towel and change of clothes.
URL:https://manningriverrowingclub.org.au/event/learn-to-row/2028-12-30/
LOCATION:Rowing Club\, Endeavour Place\, Taree\,\, NSW\, 2430\, Australia
END:VEVENT
BEGIN:VEVENT
DTSTART;TZID=Australia/Sydney:20290106T070000
DTEND;TZID=Australia/Sydney:20290106T083000
DTSTAMP:20260422T211001
CREATED:20241004T024045Z
LAST-MODIFIED:20241126T235515Z
UID:10000230-1862377200-1862382600@manningriverrowingclub.org.au
SUMMARY:Learn to Row
DESCRIPTION:Our Learn to Row program is on again this Saturday from 6:50am to 8:30am. \nSign up for the 6 week introductory course to participate. \nBe sure to bring sun protection\, water bottle\, thongs or sandals\, a towel and change of clothes.
URL:https://manningriverrowingclub.org.au/event/learn-to-row/2029-01-06/
LOCATION:Rowing Club\, Endeavour Place\, Taree\,\, NSW\, 2430\, Australia
END:VEVENT
BEGIN:VEVENT
DTSTART;TZID=Australia/Sydney:20290113T070000
DTEND;TZID=Australia/Sydney:20290113T083000
DTSTAMP:20260422T211001
CREATED:20241004T024045Z
LAST-MODIFIED:20241126T235515Z
UID:10000231-1862982000-1862987400@manningriverrowingclub.org.au
SUMMARY:Learn to Row
DESCRIPTION:Our Learn to Row program is on again this Saturday from 6:50am to 8:30am. \nSign up for the 6 week introductory course to participate. \nBe sure to bring sun protection\, water bottle\, thongs or sandals\, a towel and change of clothes.
URL:https://manningriverrowingclub.org.au/event/learn-to-row/2029-01-13/
LOCATION:Rowing Club\, Endeavour Place\, Taree\,\, NSW\, 2430\, Australia
END:VEVENT
BEGIN:VEVENT
DTSTART;TZID=Australia/Sydney:20290120T070000
DTEND;TZID=Australia/Sydney:20290120T083000
DTSTAMP:20260422T211001
CREATED:20241004T024045Z
LAST-MODIFIED:20241126T235515Z
UID:10000232-1863586800-1863592200@manningriverrowingclub.org.au
SUMMARY:Learn to Row
DESCRIPTION:Our Learn to Row program is on again this Saturday from 6:50am to 8:30am. \nSign up for the 6 week introductory course to participate. \nBe sure to bring sun protection\, water bottle\, thongs or sandals\, a towel and change of clothes.
URL:https://manningriverrowingclub.org.au/event/learn-to-row/2029-01-20/
LOCATION:Rowing Club\, Endeavour Place\, Taree\,\, NSW\, 2430\, Australia
END:VEVENT
BEGIN:VEVENT
DTSTART;TZID=Australia/Sydney:20290127T070000
DTEND;TZID=Australia/Sydney:20290127T083000
DTSTAMP:20260422T211001
CREATED:20241004T024045Z
LAST-MODIFIED:20241126T235515Z
UID:10000233-1864191600-1864197000@manningriverrowingclub.org.au
SUMMARY:Learn to Row
DESCRIPTION:Our Learn to Row program is on again this Saturday from 6:50am to 8:30am. \nSign up for the 6 week introductory course to participate. \nBe sure to bring sun protection\, water bottle\, thongs or sandals\, a towel and change of clothes.
URL:https://manningriverrowingclub.org.au/event/learn-to-row/2029-01-27/
LOCATION:Rowing Club\, Endeavour Place\, Taree\,\, NSW\, 2430\, Australia
END:VEVENT
BEGIN:VEVENT
DTSTART;TZID=Australia/Sydney:20290203T070000
DTEND;TZID=Australia/Sydney:20290203T083000
DTSTAMP:20260422T211001
CREATED:20241004T024045Z
LAST-MODIFIED:20241126T235515Z
UID:10000234-1864796400-1864801800@manningriverrowingclub.org.au
SUMMARY:Learn to Row
DESCRIPTION:Our Learn to Row program is on again this Saturday from 6:50am to 8:30am. \nSign up for the 6 week introductory course to participate. \nBe sure to bring sun protection\, water bottle\, thongs or sandals\, a towel and change of clothes.
URL:https://manningriverrowingclub.org.au/event/learn-to-row/2029-02-03/
LOCATION:Rowing Club\, Endeavour Place\, Taree\,\, NSW\, 2430\, Australia
END:VEVENT
BEGIN:VEVENT
DTSTART;TZID=Australia/Sydney:20290210T070000
DTEND;TZID=Australia/Sydney:20290210T083000
DTSTAMP:20260422T211001
CREATED:20241004T024045Z
LAST-MODIFIED:20241126T235515Z
UID:10000235-1865401200-1865406600@manningriverrowingclub.org.au
SUMMARY:Learn to Row
DESCRIPTION:Our Learn to Row program is on again this Saturday from 6:50am to 8:30am. \nSign up for the 6 week introductory course to participate. \nBe sure to bring sun protection\, water bottle\, thongs or sandals\, a towel and change of clothes.
URL:https://manningriverrowingclub.org.au/event/learn-to-row/2029-02-10/
LOCATION:Rowing Club\, Endeavour Place\, Taree\,\, NSW\, 2430\, Australia
END:VEVENT
BEGIN:VEVENT
DTSTART;TZID=Australia/Sydney:20290217T070000
DTEND;TZID=Australia/Sydney:20290217T083000
DTSTAMP:20260422T211001
CREATED:20241004T024045Z
LAST-MODIFIED:20241126T235515Z
UID:10000236-1866006000-1866011400@manningriverrowingclub.org.au
SUMMARY:Learn to Row
DESCRIPTION:Our Learn to Row program is on again this Saturday from 6:50am to 8:30am. \nSign up for the 6 week introductory course to participate. \nBe sure to bring sun protection\, water bottle\, thongs or sandals\, a towel and change of clothes.
URL:https://manningriverrowingclub.org.au/event/learn-to-row/2029-02-17/
LOCATION:Rowing Club\, Endeavour Place\, Taree\,\, NSW\, 2430\, Australia
END:VEVENT
BEGIN:VEVENT
DTSTART;TZID=Australia/Sydney:20290224T070000
DTEND;TZID=Australia/Sydney:20290224T083000
DTSTAMP:20260422T211001
CREATED:20241004T024045Z
LAST-MODIFIED:20241126T235515Z
UID:10000237-1866610800-1866616200@manningriverrowingclub.org.au
SUMMARY:Learn to Row
DESCRIPTION:Our Learn to Row program is on again this Saturday from 6:50am to 8:30am. \nSign up for the 6 week introductory course to participate. \nBe sure to bring sun protection\, water bottle\, thongs or sandals\, a towel and change of clothes.
URL:https://manningriverrowingclub.org.au/event/learn-to-row/2029-02-24/
LOCATION:Rowing Club\, Endeavour Place\, Taree\,\, NSW\, 2430\, Australia
END:VEVENT
BEGIN:VEVENT
DTSTART;TZID=Australia/Sydney:20290303T070000
DTEND;TZID=Australia/Sydney:20290303T083000
DTSTAMP:20260422T211001
CREATED:20241004T024045Z
LAST-MODIFIED:20241126T235515Z
UID:10000238-1867215600-1867221000@manningriverrowingclub.org.au
SUMMARY:Learn to Row
DESCRIPTION:Our Learn to Row program is on again this Saturday from 6:50am to 8:30am. \nSign up for the 6 week introductory course to participate. \nBe sure to bring sun protection\, water bottle\, thongs or sandals\, a towel and change of clothes.
URL:https://manningriverrowingclub.org.au/event/learn-to-row/2029-03-03/
LOCATION:Rowing Club\, Endeavour Place\, Taree\,\, NSW\, 2430\, Australia
END:VEVENT
END:VCALENDAR