BEGIN:VCALENDAR
VERSION:2.0
PRODID:-//Manning River Rowing Club - ECPv6.6.4//NONSGML v1.0//EN
CALSCALE:GREGORIAN
METHOD:PUBLISH
X-WR-CALNAME:Manning River Rowing Club
X-ORIGINAL-URL:https://manningriverrowingclub.org.au
X-WR-CALDESC:Events for Manning River Rowing Club
REFRESH-INTERVAL;VALUE=DURATION:PT1H
X-Robots-Tag:noindex
X-PUBLISHED-TTL:PT1H
BEGIN:VTIMEZONE
TZID:Australia/Sydney
BEGIN:STANDARD
TZOFFSETFROM:+1100
TZOFFSETTO:+1000
TZNAME:AEST
DTSTART:20250405T160000
END:STANDARD
BEGIN:DAYLIGHT
TZOFFSETFROM:+1000
TZOFFSETTO:+1100
TZNAME:AEDT
DTSTART:20251004T160000
END:DAYLIGHT
BEGIN:STANDARD
TZOFFSETFROM:+1100
TZOFFSETTO:+1000
TZNAME:AEST
DTSTART:20260404T160000
END:STANDARD
BEGIN:DAYLIGHT
TZOFFSETFROM:+1000
TZOFFSETTO:+1100
TZNAME:AEDT
DTSTART:20261003T160000
END:DAYLIGHT
END:VTIMEZONE
BEGIN:VEVENT
DTSTART;TZID=Australia/Sydney:20260117T070000
DTEND;TZID=Australia/Sydney:20260117T083000
DTSTAMP:20260416T045612
CREATED:20241004T024045Z
LAST-MODIFIED:20241126T235515Z
UID:10000075-1768633200-1768638600@manningriverrowingclub.org.au
SUMMARY:Learn to Row
DESCRIPTION:Our Learn to Row program is on again this Saturday from 6:50am to 8:30am. \nSign up for the 6 week introductory course to participate. \nBe sure to bring sun protection\, water bottle\, thongs or sandals\, a towel and change of clothes.
URL:https://manningriverrowingclub.org.au/event/learn-to-row/2026-01-17/
LOCATION:Rowing Club\, Endeavour Place\, Taree\,\, NSW\, 2430\, Australia
END:VEVENT
BEGIN:VEVENT
DTSTART;TZID=Australia/Sydney:20260110T070000
DTEND;TZID=Australia/Sydney:20260110T083000
DTSTAMP:20260416T045612
CREATED:20241004T024045Z
LAST-MODIFIED:20241126T235515Z
UID:10000074-1768028400-1768033800@manningriverrowingclub.org.au
SUMMARY:Learn to Row
DESCRIPTION:Our Learn to Row program is on again this Saturday from 6:50am to 8:30am. \nSign up for the 6 week introductory course to participate. \nBe sure to bring sun protection\, water bottle\, thongs or sandals\, a towel and change of clothes.
URL:https://manningriverrowingclub.org.au/event/learn-to-row/2026-01-10/
LOCATION:Rowing Club\, Endeavour Place\, Taree\,\, NSW\, 2430\, Australia
END:VEVENT
BEGIN:VEVENT
DTSTART;TZID=Australia/Sydney:20260103T070000
DTEND;TZID=Australia/Sydney:20260103T083000
DTSTAMP:20260416T045612
CREATED:20241004T024045Z
LAST-MODIFIED:20241126T235515Z
UID:10000073-1767423600-1767429000@manningriverrowingclub.org.au
SUMMARY:Learn to Row
DESCRIPTION:Our Learn to Row program is on again this Saturday from 6:50am to 8:30am. \nSign up for the 6 week introductory course to participate. \nBe sure to bring sun protection\, water bottle\, thongs or sandals\, a towel and change of clothes.
URL:https://manningriverrowingclub.org.au/event/learn-to-row/2026-01-03/
LOCATION:Rowing Club\, Endeavour Place\, Taree\,\, NSW\, 2430\, Australia
END:VEVENT
BEGIN:VEVENT
DTSTART;TZID=Australia/Sydney:20251227T070000
DTEND;TZID=Australia/Sydney:20251227T083000
DTSTAMP:20260416T045612
CREATED:20241004T024045Z
LAST-MODIFIED:20241126T235515Z
UID:10000072-1766818800-1766824200@manningriverrowingclub.org.au
SUMMARY:Learn to Row
DESCRIPTION:Our Learn to Row program is on again this Saturday from 6:50am to 8:30am. \nSign up for the 6 week introductory course to participate. \nBe sure to bring sun protection\, water bottle\, thongs or sandals\, a towel and change of clothes.
URL:https://manningriverrowingclub.org.au/event/learn-to-row/2025-12-27/
LOCATION:Rowing Club\, Endeavour Place\, Taree\,\, NSW\, 2430\, Australia
END:VEVENT
BEGIN:VEVENT
DTSTART;TZID=Australia/Sydney:20251220T070000
DTEND;TZID=Australia/Sydney:20251220T083000
DTSTAMP:20260416T045612
CREATED:20241004T024045Z
LAST-MODIFIED:20241126T235515Z
UID:10000071-1766214000-1766219400@manningriverrowingclub.org.au
SUMMARY:Learn to Row
DESCRIPTION:Our Learn to Row program is on again this Saturday from 6:50am to 8:30am. \nSign up for the 6 week introductory course to participate. \nBe sure to bring sun protection\, water bottle\, thongs or sandals\, a towel and change of clothes.
URL:https://manningriverrowingclub.org.au/event/learn-to-row/2025-12-20/
LOCATION:Rowing Club\, Endeavour Place\, Taree\,\, NSW\, 2430\, Australia
END:VEVENT
BEGIN:VEVENT
DTSTART;TZID=Australia/Sydney:20251213T070000
DTEND;TZID=Australia/Sydney:20251213T083000
DTSTAMP:20260416T045612
CREATED:20241004T024045Z
LAST-MODIFIED:20241126T235515Z
UID:10000070-1765609200-1765614600@manningriverrowingclub.org.au
SUMMARY:Learn to Row
DESCRIPTION:Our Learn to Row program is on again this Saturday from 6:50am to 8:30am. \nSign up for the 6 week introductory course to participate. \nBe sure to bring sun protection\, water bottle\, thongs or sandals\, a towel and change of clothes.
URL:https://manningriverrowingclub.org.au/event/learn-to-row/2025-12-13/
LOCATION:Rowing Club\, Endeavour Place\, Taree\,\, NSW\, 2430\, Australia
END:VEVENT
BEGIN:VEVENT
DTSTART;TZID=Australia/Sydney:20251206T070000
DTEND;TZID=Australia/Sydney:20251206T083000
DTSTAMP:20260416T045612
CREATED:20241004T024045Z
LAST-MODIFIED:20241126T235515Z
UID:10000069-1765004400-1765009800@manningriverrowingclub.org.au
SUMMARY:Learn to Row
DESCRIPTION:Our Learn to Row program is on again this Saturday from 6:50am to 8:30am. \nSign up for the 6 week introductory course to participate. \nBe sure to bring sun protection\, water bottle\, thongs or sandals\, a towel and change of clothes.
URL:https://manningriverrowingclub.org.au/event/learn-to-row/2025-12-06/
LOCATION:Rowing Club\, Endeavour Place\, Taree\,\, NSW\, 2430\, Australia
END:VEVENT
BEGIN:VEVENT
DTSTART;TZID=Australia/Sydney:20251129T070000
DTEND;TZID=Australia/Sydney:20251129T083000
DTSTAMP:20260416T045612
CREATED:20241004T024045Z
LAST-MODIFIED:20241126T235515Z
UID:10000068-1764399600-1764405000@manningriverrowingclub.org.au
SUMMARY:Learn to Row
DESCRIPTION:Our Learn to Row program is on again this Saturday from 6:50am to 8:30am. \nSign up for the 6 week introductory course to participate. \nBe sure to bring sun protection\, water bottle\, thongs or sandals\, a towel and change of clothes.
URL:https://manningriverrowingclub.org.au/event/learn-to-row/2025-11-29/
LOCATION:Rowing Club\, Endeavour Place\, Taree\,\, NSW\, 2430\, Australia
END:VEVENT
BEGIN:VEVENT
DTSTART;TZID=Australia/Sydney:20251122T070000
DTEND;TZID=Australia/Sydney:20251122T083000
DTSTAMP:20260416T045612
CREATED:20241004T024045Z
LAST-MODIFIED:20241126T235515Z
UID:10000067-1763794800-1763800200@manningriverrowingclub.org.au
SUMMARY:Learn to Row
DESCRIPTION:Our Learn to Row program is on again this Saturday from 6:50am to 8:30am. \nSign up for the 6 week introductory course to participate. \nBe sure to bring sun protection\, water bottle\, thongs or sandals\, a towel and change of clothes.
URL:https://manningriverrowingclub.org.au/event/learn-to-row/2025-11-22/
LOCATION:Rowing Club\, Endeavour Place\, Taree\,\, NSW\, 2430\, Australia
END:VEVENT
BEGIN:VEVENT
DTSTART;TZID=Australia/Sydney:20251115T070000
DTEND;TZID=Australia/Sydney:20251115T083000
DTSTAMP:20260416T045612
CREATED:20241004T024045Z
LAST-MODIFIED:20241126T235515Z
UID:10000066-1763190000-1763195400@manningriverrowingclub.org.au
SUMMARY:Learn to Row
DESCRIPTION:Our Learn to Row program is on again this Saturday from 6:50am to 8:30am. \nSign up for the 6 week introductory course to participate. \nBe sure to bring sun protection\, water bottle\, thongs or sandals\, a towel and change of clothes.
URL:https://manningriverrowingclub.org.au/event/learn-to-row/2025-11-15/
LOCATION:Rowing Club\, Endeavour Place\, Taree\,\, NSW\, 2430\, Australia
END:VEVENT
BEGIN:VEVENT
DTSTART;TZID=Australia/Sydney:20251108T070000
DTEND;TZID=Australia/Sydney:20251108T083000
DTSTAMP:20260416T045612
CREATED:20241004T024045Z
LAST-MODIFIED:20241126T235515Z
UID:10000065-1762585200-1762590600@manningriverrowingclub.org.au
SUMMARY:Learn to Row
DESCRIPTION:Our Learn to Row program is on again this Saturday from 6:50am to 8:30am. \nSign up for the 6 week introductory course to participate. \nBe sure to bring sun protection\, water bottle\, thongs or sandals\, a towel and change of clothes.
URL:https://manningriverrowingclub.org.au/event/learn-to-row/2025-11-08/
LOCATION:Rowing Club\, Endeavour Place\, Taree\,\, NSW\, 2430\, Australia
END:VEVENT
BEGIN:VEVENT
DTSTART;TZID=Australia/Sydney:20251101T070000
DTEND;TZID=Australia/Sydney:20251101T083000
DTSTAMP:20260416T045612
CREATED:20241004T024045Z
LAST-MODIFIED:20241126T235515Z
UID:10000064-1761980400-1761985800@manningriverrowingclub.org.au
SUMMARY:Learn to Row
DESCRIPTION:Our Learn to Row program is on again this Saturday from 6:50am to 8:30am. \nSign up for the 6 week introductory course to participate. \nBe sure to bring sun protection\, water bottle\, thongs or sandals\, a towel and change of clothes.
URL:https://manningriverrowingclub.org.au/event/learn-to-row/2025-11-01/
LOCATION:Rowing Club\, Endeavour Place\, Taree\,\, NSW\, 2430\, Australia
END:VEVENT
BEGIN:VEVENT
DTSTART;TZID=Australia/Sydney:20251025T070000
DTEND;TZID=Australia/Sydney:20251025T083000
DTSTAMP:20260416T045612
CREATED:20241004T024045Z
LAST-MODIFIED:20241126T235515Z
UID:10000063-1761375600-1761381000@manningriverrowingclub.org.au
SUMMARY:Learn to Row
DESCRIPTION:Our Learn to Row program is on again this Saturday from 6:50am to 8:30am. \nSign up for the 6 week introductory course to participate. \nBe sure to bring sun protection\, water bottle\, thongs or sandals\, a towel and change of clothes.
URL:https://manningriverrowingclub.org.au/event/learn-to-row/2025-10-25/
LOCATION:Rowing Club\, Endeavour Place\, Taree\,\, NSW\, 2430\, Australia
END:VEVENT
BEGIN:VEVENT
DTSTART;TZID=Australia/Sydney:20251018T070000
DTEND;TZID=Australia/Sydney:20251018T083000
DTSTAMP:20260416T045612
CREATED:20241004T024045Z
LAST-MODIFIED:20241126T235515Z
UID:10000062-1760770800-1760776200@manningriverrowingclub.org.au
SUMMARY:Learn to Row
DESCRIPTION:Our Learn to Row program is on again this Saturday from 6:50am to 8:30am. \nSign up for the 6 week introductory course to participate. \nBe sure to bring sun protection\, water bottle\, thongs or sandals\, a towel and change of clothes.
URL:https://manningriverrowingclub.org.au/event/learn-to-row/2025-10-18/
LOCATION:Rowing Club\, Endeavour Place\, Taree\,\, NSW\, 2430\, Australia
END:VEVENT
BEGIN:VEVENT
DTSTART;TZID=Australia/Sydney:20251011T070000
DTEND;TZID=Australia/Sydney:20251011T083000
DTSTAMP:20260416T045612
CREATED:20241004T024045Z
LAST-MODIFIED:20241126T235515Z
UID:10000061-1760166000-1760171400@manningriverrowingclub.org.au
SUMMARY:Learn to Row
DESCRIPTION:Our Learn to Row program is on again this Saturday from 6:50am to 8:30am. \nSign up for the 6 week introductory course to participate. \nBe sure to bring sun protection\, water bottle\, thongs or sandals\, a towel and change of clothes.
URL:https://manningriverrowingclub.org.au/event/learn-to-row/2025-10-11/
LOCATION:Rowing Club\, Endeavour Place\, Taree\,\, NSW\, 2430\, Australia
END:VEVENT
BEGIN:VEVENT
DTSTART;TZID=Australia/Sydney:20251004T070000
DTEND;TZID=Australia/Sydney:20251004T083000
DTSTAMP:20260416T045612
CREATED:20241004T024045Z
LAST-MODIFIED:20241126T235515Z
UID:10000060-1759561200-1759566600@manningriverrowingclub.org.au
SUMMARY:Learn to Row
DESCRIPTION:Our Learn to Row program is on again this Saturday from 6:50am to 8:30am. \nSign up for the 6 week introductory course to participate. \nBe sure to bring sun protection\, water bottle\, thongs or sandals\, a towel and change of clothes.
URL:https://manningriverrowingclub.org.au/event/learn-to-row/2025-10-04/
LOCATION:Rowing Club\, Endeavour Place\, Taree\,\, NSW\, 2430\, Australia
END:VEVENT
BEGIN:VEVENT
DTSTART;TZID=Australia/Sydney:20250927T070000
DTEND;TZID=Australia/Sydney:20250927T083000
DTSTAMP:20260416T045612
CREATED:20241004T024045Z
LAST-MODIFIED:20241126T235515Z
UID:10000059-1758956400-1758961800@manningriverrowingclub.org.au
SUMMARY:Learn to Row
DESCRIPTION:Our Learn to Row program is on again this Saturday from 6:50am to 8:30am. \nSign up for the 6 week introductory course to participate. \nBe sure to bring sun protection\, water bottle\, thongs or sandals\, a towel and change of clothes.
URL:https://manningriverrowingclub.org.au/event/learn-to-row/2025-09-27/
LOCATION:Rowing Club\, Endeavour Place\, Taree\,\, NSW\, 2430\, Australia
END:VEVENT
BEGIN:VEVENT
DTSTART;TZID=Australia/Sydney:20250920T070000
DTEND;TZID=Australia/Sydney:20250920T083000
DTSTAMP:20260416T045612
CREATED:20241004T024045Z
LAST-MODIFIED:20241126T235515Z
UID:10000058-1758351600-1758357000@manningriverrowingclub.org.au
SUMMARY:Learn to Row
DESCRIPTION:Our Learn to Row program is on again this Saturday from 6:50am to 8:30am. \nSign up for the 6 week introductory course to participate. \nBe sure to bring sun protection\, water bottle\, thongs or sandals\, a towel and change of clothes.
URL:https://manningriverrowingclub.org.au/event/learn-to-row/2025-09-20/
LOCATION:Rowing Club\, Endeavour Place\, Taree\,\, NSW\, 2430\, Australia
END:VEVENT
BEGIN:VEVENT
DTSTART;TZID=Australia/Sydney:20250913T070000
DTEND;TZID=Australia/Sydney:20250913T083000
DTSTAMP:20260416T045612
CREATED:20241004T024045Z
LAST-MODIFIED:20241126T235515Z
UID:10000057-1757746800-1757752200@manningriverrowingclub.org.au
SUMMARY:Learn to Row
DESCRIPTION:Our Learn to Row program is on again this Saturday from 6:50am to 8:30am. \nSign up for the 6 week introductory course to participate. \nBe sure to bring sun protection\, water bottle\, thongs or sandals\, a towel and change of clothes.
URL:https://manningriverrowingclub.org.au/event/learn-to-row/2025-09-13/
LOCATION:Rowing Club\, Endeavour Place\, Taree\,\, NSW\, 2430\, Australia
END:VEVENT
BEGIN:VEVENT
DTSTART;TZID=Australia/Sydney:20250906T070000
DTEND;TZID=Australia/Sydney:20250906T083000
DTSTAMP:20260416T045612
CREATED:20241004T024045Z
LAST-MODIFIED:20241126T235515Z
UID:10000056-1757142000-1757147400@manningriverrowingclub.org.au
SUMMARY:Learn to Row
DESCRIPTION:Our Learn to Row program is on again this Saturday from 6:50am to 8:30am. \nSign up for the 6 week introductory course to participate. \nBe sure to bring sun protection\, water bottle\, thongs or sandals\, a towel and change of clothes.
URL:https://manningriverrowingclub.org.au/event/learn-to-row/2025-09-06/
LOCATION:Rowing Club\, Endeavour Place\, Taree\,\, NSW\, 2430\, Australia
END:VEVENT
BEGIN:VEVENT
DTSTART;TZID=Australia/Sydney:20250830T070000
DTEND;TZID=Australia/Sydney:20250830T083000
DTSTAMP:20260416T045612
CREATED:20241004T024045Z
LAST-MODIFIED:20241126T235515Z
UID:10000055-1756537200-1756542600@manningriverrowingclub.org.au
SUMMARY:Learn to Row
DESCRIPTION:Our Learn to Row program is on again this Saturday from 6:50am to 8:30am. \nSign up for the 6 week introductory course to participate. \nBe sure to bring sun protection\, water bottle\, thongs or sandals\, a towel and change of clothes.
URL:https://manningriverrowingclub.org.au/event/learn-to-row/2025-08-30/
LOCATION:Rowing Club\, Endeavour Place\, Taree\,\, NSW\, 2430\, Australia
END:VEVENT
BEGIN:VEVENT
DTSTART;TZID=Australia/Sydney:20250823T070000
DTEND;TZID=Australia/Sydney:20250823T083000
DTSTAMP:20260416T045612
CREATED:20241004T024045Z
LAST-MODIFIED:20241126T235515Z
UID:10000054-1755932400-1755937800@manningriverrowingclub.org.au
SUMMARY:Learn to Row
DESCRIPTION:Our Learn to Row program is on again this Saturday from 6:50am to 8:30am. \nSign up for the 6 week introductory course to participate. \nBe sure to bring sun protection\, water bottle\, thongs or sandals\, a towel and change of clothes.
URL:https://manningriverrowingclub.org.au/event/learn-to-row/2025-08-23/
LOCATION:Rowing Club\, Endeavour Place\, Taree\,\, NSW\, 2430\, Australia
END:VEVENT
BEGIN:VEVENT
DTSTART;TZID=Australia/Sydney:20250816T070000
DTEND;TZID=Australia/Sydney:20250816T083000
DTSTAMP:20260416T045612
CREATED:20241004T024045Z
LAST-MODIFIED:20241126T235515Z
UID:10000053-1755327600-1755333000@manningriverrowingclub.org.au
SUMMARY:Learn to Row
DESCRIPTION:Our Learn to Row program is on again this Saturday from 6:50am to 8:30am. \nSign up for the 6 week introductory course to participate. \nBe sure to bring sun protection\, water bottle\, thongs or sandals\, a towel and change of clothes.
URL:https://manningriverrowingclub.org.au/event/learn-to-row/2025-08-16/
LOCATION:Rowing Club\, Endeavour Place\, Taree\,\, NSW\, 2430\, Australia
END:VEVENT
BEGIN:VEVENT
DTSTART;TZID=Australia/Sydney:20250809T070000
DTEND;TZID=Australia/Sydney:20250809T083000
DTSTAMP:20260416T045612
CREATED:20241004T024045Z
LAST-MODIFIED:20241126T235515Z
UID:10000052-1754722800-1754728200@manningriverrowingclub.org.au
SUMMARY:Learn to Row
DESCRIPTION:Our Learn to Row program is on again this Saturday from 6:50am to 8:30am. \nSign up for the 6 week introductory course to participate. \nBe sure to bring sun protection\, water bottle\, thongs or sandals\, a towel and change of clothes.
URL:https://manningriverrowingclub.org.au/event/learn-to-row/2025-08-09/
LOCATION:Rowing Club\, Endeavour Place\, Taree\,\, NSW\, 2430\, Australia
END:VEVENT
BEGIN:VEVENT
DTSTART;TZID=Australia/Sydney:20250802T070000
DTEND;TZID=Australia/Sydney:20250802T083000
DTSTAMP:20260416T045612
CREATED:20241004T024045Z
LAST-MODIFIED:20241126T235515Z
UID:10000051-1754118000-1754123400@manningriverrowingclub.org.au
SUMMARY:Learn to Row
DESCRIPTION:Our Learn to Row program is on again this Saturday from 6:50am to 8:30am. \nSign up for the 6 week introductory course to participate. \nBe sure to bring sun protection\, water bottle\, thongs or sandals\, a towel and change of clothes.
URL:https://manningriverrowingclub.org.au/event/learn-to-row/2025-08-02/
LOCATION:Rowing Club\, Endeavour Place\, Taree\,\, NSW\, 2430\, Australia
END:VEVENT
BEGIN:VEVENT
DTSTART;TZID=Australia/Sydney:20250726T070000
DTEND;TZID=Australia/Sydney:20250726T083000
DTSTAMP:20260416T045612
CREATED:20241004T024045Z
LAST-MODIFIED:20241126T235515Z
UID:10000050-1753513200-1753518600@manningriverrowingclub.org.au
SUMMARY:Learn to Row
DESCRIPTION:Our Learn to Row program is on again this Saturday from 6:50am to 8:30am. \nSign up for the 6 week introductory course to participate. \nBe sure to bring sun protection\, water bottle\, thongs or sandals\, a towel and change of clothes.
URL:https://manningriverrowingclub.org.au/event/learn-to-row/2025-07-26/
LOCATION:Rowing Club\, Endeavour Place\, Taree\,\, NSW\, 2430\, Australia
END:VEVENT
BEGIN:VEVENT
DTSTART;TZID=Australia/Sydney:20250719T070000
DTEND;TZID=Australia/Sydney:20250719T083000
DTSTAMP:20260416T045612
CREATED:20241004T024045Z
LAST-MODIFIED:20241126T235515Z
UID:10000049-1752908400-1752913800@manningriverrowingclub.org.au
SUMMARY:Learn to Row
DESCRIPTION:Our Learn to Row program is on again this Saturday from 6:50am to 8:30am. \nSign up for the 6 week introductory course to participate. \nBe sure to bring sun protection\, water bottle\, thongs or sandals\, a towel and change of clothes.
URL:https://manningriverrowingclub.org.au/event/learn-to-row/2025-07-19/
LOCATION:Rowing Club\, Endeavour Place\, Taree\,\, NSW\, 2430\, Australia
END:VEVENT
BEGIN:VEVENT
DTSTART;TZID=Australia/Sydney:20250712T070000
DTEND;TZID=Australia/Sydney:20250712T083000
DTSTAMP:20260416T045612
CREATED:20241004T024045Z
LAST-MODIFIED:20241126T235515Z
UID:10000048-1752303600-1752309000@manningriverrowingclub.org.au
SUMMARY:Learn to Row
DESCRIPTION:Our Learn to Row program is on again this Saturday from 6:50am to 8:30am. \nSign up for the 6 week introductory course to participate. \nBe sure to bring sun protection\, water bottle\, thongs or sandals\, a towel and change of clothes.
URL:https://manningriverrowingclub.org.au/event/learn-to-row/2025-07-12/
LOCATION:Rowing Club\, Endeavour Place\, Taree\,\, NSW\, 2430\, Australia
END:VEVENT
BEGIN:VEVENT
DTSTART;TZID=Australia/Sydney:20250705T070000
DTEND;TZID=Australia/Sydney:20250705T083000
DTSTAMP:20260416T045612
CREATED:20241004T024045Z
LAST-MODIFIED:20241126T235515Z
UID:10000047-1751698800-1751704200@manningriverrowingclub.org.au
SUMMARY:Learn to Row
DESCRIPTION:Our Learn to Row program is on again this Saturday from 6:50am to 8:30am. \nSign up for the 6 week introductory course to participate. \nBe sure to bring sun protection\, water bottle\, thongs or sandals\, a towel and change of clothes.
URL:https://manningriverrowingclub.org.au/event/learn-to-row/2025-07-05/
LOCATION:Rowing Club\, Endeavour Place\, Taree\,\, NSW\, 2430\, Australia
END:VEVENT
BEGIN:VEVENT
DTSTART;TZID=Australia/Sydney:20250628T070000
DTEND;TZID=Australia/Sydney:20250628T083000
DTSTAMP:20260416T045612
CREATED:20241004T024045Z
LAST-MODIFIED:20241126T235515Z
UID:10000046-1751094000-1751099400@manningriverrowingclub.org.au
SUMMARY:Learn to Row
DESCRIPTION:Our Learn to Row program is on again this Saturday from 6:50am to 8:30am. \nSign up for the 6 week introductory course to participate. \nBe sure to bring sun protection\, water bottle\, thongs or sandals\, a towel and change of clothes.
URL:https://manningriverrowingclub.org.au/event/learn-to-row/2025-06-28/
LOCATION:Rowing Club\, Endeavour Place\, Taree\,\, NSW\, 2430\, Australia
END:VEVENT
END:VCALENDAR