BEGIN:VCALENDAR
VERSION:2.0
PRODID:-//Manning River Rowing Club - ECPv6.6.4//NONSGML v1.0//EN
CALSCALE:GREGORIAN
METHOD:PUBLISH
X-WR-CALNAME:Manning River Rowing Club
X-ORIGINAL-URL:https://manningriverrowingclub.org.au
X-WR-CALDESC:Events for Manning River Rowing Club
REFRESH-INTERVAL;VALUE=DURATION:PT1H
X-Robots-Tag:noindex
X-PUBLISHED-TTL:PT1H
BEGIN:VTIMEZONE
TZID:Australia/Sydney
BEGIN:STANDARD
TZOFFSETFROM:+1100
TZOFFSETTO:+1000
TZNAME:AEST
DTSTART:20260404T160000
END:STANDARD
BEGIN:DAYLIGHT
TZOFFSETFROM:+1000
TZOFFSETTO:+1100
TZNAME:AEDT
DTSTART:20261003T160000
END:DAYLIGHT
BEGIN:STANDARD
TZOFFSETFROM:+1100
TZOFFSETTO:+1000
TZNAME:AEST
DTSTART:20270403T160000
END:STANDARD
BEGIN:DAYLIGHT
TZOFFSETFROM:+1000
TZOFFSETTO:+1100
TZNAME:AEDT
DTSTART:20271002T160000
END:DAYLIGHT
END:VTIMEZONE
BEGIN:VEVENT
DTSTART;TZID=Australia/Sydney:20260718T070000
DTEND;TZID=Australia/Sydney:20260718T083000
DTSTAMP:20260422T052658
CREATED:20241004T024045Z
LAST-MODIFIED:20241126T235515Z
UID:10000101-1784358000-1784363400@manningriverrowingclub.org.au
SUMMARY:Learn to Row
DESCRIPTION:Our Learn to Row program is on again this Saturday from 6:50am to 8:30am. \nSign up for the 6 week introductory course to participate. \nBe sure to bring sun protection\, water bottle\, thongs or sandals\, a towel and change of clothes.
URL:https://manningriverrowingclub.org.au/event/learn-to-row/2026-07-18/
LOCATION:Rowing Club\, Endeavour Place\, Taree\,\, NSW\, 2430\, Australia
END:VEVENT
BEGIN:VEVENT
DTSTART;TZID=Australia/Sydney:20260725T070000
DTEND;TZID=Australia/Sydney:20260725T083000
DTSTAMP:20260422T052658
CREATED:20241004T024045Z
LAST-MODIFIED:20241126T235515Z
UID:10000102-1784962800-1784968200@manningriverrowingclub.org.au
SUMMARY:Learn to Row
DESCRIPTION:Our Learn to Row program is on again this Saturday from 6:50am to 8:30am. \nSign up for the 6 week introductory course to participate. \nBe sure to bring sun protection\, water bottle\, thongs or sandals\, a towel and change of clothes.
URL:https://manningriverrowingclub.org.au/event/learn-to-row/2026-07-25/
LOCATION:Rowing Club\, Endeavour Place\, Taree\,\, NSW\, 2430\, Australia
END:VEVENT
BEGIN:VEVENT
DTSTART;TZID=Australia/Sydney:20260801T070000
DTEND;TZID=Australia/Sydney:20260801T083000
DTSTAMP:20260422T052658
CREATED:20241004T024045Z
LAST-MODIFIED:20241126T235515Z
UID:10000103-1785567600-1785573000@manningriverrowingclub.org.au
SUMMARY:Learn to Row
DESCRIPTION:Our Learn to Row program is on again this Saturday from 6:50am to 8:30am. \nSign up for the 6 week introductory course to participate. \nBe sure to bring sun protection\, water bottle\, thongs or sandals\, a towel and change of clothes.
URL:https://manningriverrowingclub.org.au/event/learn-to-row/2026-08-01/
LOCATION:Rowing Club\, Endeavour Place\, Taree\,\, NSW\, 2430\, Australia
END:VEVENT
BEGIN:VEVENT
DTSTART;TZID=Australia/Sydney:20260808T070000
DTEND;TZID=Australia/Sydney:20260808T083000
DTSTAMP:20260422T052658
CREATED:20241004T024045Z
LAST-MODIFIED:20241126T235515Z
UID:10000104-1786172400-1786177800@manningriverrowingclub.org.au
SUMMARY:Learn to Row
DESCRIPTION:Our Learn to Row program is on again this Saturday from 6:50am to 8:30am. \nSign up for the 6 week introductory course to participate. \nBe sure to bring sun protection\, water bottle\, thongs or sandals\, a towel and change of clothes.
URL:https://manningriverrowingclub.org.au/event/learn-to-row/2026-08-08/
LOCATION:Rowing Club\, Endeavour Place\, Taree\,\, NSW\, 2430\, Australia
END:VEVENT
BEGIN:VEVENT
DTSTART;TZID=Australia/Sydney:20260815T070000
DTEND;TZID=Australia/Sydney:20260815T083000
DTSTAMP:20260422T052658
CREATED:20241004T024045Z
LAST-MODIFIED:20241126T235515Z
UID:10000105-1786777200-1786782600@manningriverrowingclub.org.au
SUMMARY:Learn to Row
DESCRIPTION:Our Learn to Row program is on again this Saturday from 6:50am to 8:30am. \nSign up for the 6 week introductory course to participate. \nBe sure to bring sun protection\, water bottle\, thongs or sandals\, a towel and change of clothes.
URL:https://manningriverrowingclub.org.au/event/learn-to-row/2026-08-15/
LOCATION:Rowing Club\, Endeavour Place\, Taree\,\, NSW\, 2430\, Australia
END:VEVENT
BEGIN:VEVENT
DTSTART;TZID=Australia/Sydney:20260822T070000
DTEND;TZID=Australia/Sydney:20260822T083000
DTSTAMP:20260422T052658
CREATED:20241004T024045Z
LAST-MODIFIED:20241126T235515Z
UID:10000106-1787382000-1787387400@manningriverrowingclub.org.au
SUMMARY:Learn to Row
DESCRIPTION:Our Learn to Row program is on again this Saturday from 6:50am to 8:30am. \nSign up for the 6 week introductory course to participate. \nBe sure to bring sun protection\, water bottle\, thongs or sandals\, a towel and change of clothes.
URL:https://manningriverrowingclub.org.au/event/learn-to-row/2026-08-22/
LOCATION:Rowing Club\, Endeavour Place\, Taree\,\, NSW\, 2430\, Australia
END:VEVENT
BEGIN:VEVENT
DTSTART;TZID=Australia/Sydney:20260829T070000
DTEND;TZID=Australia/Sydney:20260829T083000
DTSTAMP:20260422T052658
CREATED:20241004T024045Z
LAST-MODIFIED:20241126T235515Z
UID:10000107-1787986800-1787992200@manningriverrowingclub.org.au
SUMMARY:Learn to Row
DESCRIPTION:Our Learn to Row program is on again this Saturday from 6:50am to 8:30am. \nSign up for the 6 week introductory course to participate. \nBe sure to bring sun protection\, water bottle\, thongs or sandals\, a towel and change of clothes.
URL:https://manningriverrowingclub.org.au/event/learn-to-row/2026-08-29/
LOCATION:Rowing Club\, Endeavour Place\, Taree\,\, NSW\, 2430\, Australia
END:VEVENT
BEGIN:VEVENT
DTSTART;TZID=Australia/Sydney:20260905T070000
DTEND;TZID=Australia/Sydney:20260905T083000
DTSTAMP:20260422T052658
CREATED:20241004T024045Z
LAST-MODIFIED:20241126T235515Z
UID:10000108-1788591600-1788597000@manningriverrowingclub.org.au
SUMMARY:Learn to Row
DESCRIPTION:Our Learn to Row program is on again this Saturday from 6:50am to 8:30am. \nSign up for the 6 week introductory course to participate. \nBe sure to bring sun protection\, water bottle\, thongs or sandals\, a towel and change of clothes.
URL:https://manningriverrowingclub.org.au/event/learn-to-row/2026-09-05/
LOCATION:Rowing Club\, Endeavour Place\, Taree\,\, NSW\, 2430\, Australia
END:VEVENT
BEGIN:VEVENT
DTSTART;TZID=Australia/Sydney:20260912T070000
DTEND;TZID=Australia/Sydney:20260912T083000
DTSTAMP:20260422T052658
CREATED:20241004T024045Z
LAST-MODIFIED:20241126T235515Z
UID:10000109-1789196400-1789201800@manningriverrowingclub.org.au
SUMMARY:Learn to Row
DESCRIPTION:Our Learn to Row program is on again this Saturday from 6:50am to 8:30am. \nSign up for the 6 week introductory course to participate. \nBe sure to bring sun protection\, water bottle\, thongs or sandals\, a towel and change of clothes.
URL:https://manningriverrowingclub.org.au/event/learn-to-row/2026-09-12/
LOCATION:Rowing Club\, Endeavour Place\, Taree\,\, NSW\, 2430\, Australia
END:VEVENT
BEGIN:VEVENT
DTSTART;TZID=Australia/Sydney:20260919T070000
DTEND;TZID=Australia/Sydney:20260919T083000
DTSTAMP:20260422T052658
CREATED:20241004T024045Z
LAST-MODIFIED:20241126T235515Z
UID:10000110-1789801200-1789806600@manningriverrowingclub.org.au
SUMMARY:Learn to Row
DESCRIPTION:Our Learn to Row program is on again this Saturday from 6:50am to 8:30am. \nSign up for the 6 week introductory course to participate. \nBe sure to bring sun protection\, water bottle\, thongs or sandals\, a towel and change of clothes.
URL:https://manningriverrowingclub.org.au/event/learn-to-row/2026-09-19/
LOCATION:Rowing Club\, Endeavour Place\, Taree\,\, NSW\, 2430\, Australia
END:VEVENT
BEGIN:VEVENT
DTSTART;TZID=Australia/Sydney:20260926T070000
DTEND;TZID=Australia/Sydney:20260926T083000
DTSTAMP:20260422T052658
CREATED:20241004T024045Z
LAST-MODIFIED:20241126T235515Z
UID:10000111-1790406000-1790411400@manningriverrowingclub.org.au
SUMMARY:Learn to Row
DESCRIPTION:Our Learn to Row program is on again this Saturday from 6:50am to 8:30am. \nSign up for the 6 week introductory course to participate. \nBe sure to bring sun protection\, water bottle\, thongs or sandals\, a towel and change of clothes.
URL:https://manningriverrowingclub.org.au/event/learn-to-row/2026-09-26/
LOCATION:Rowing Club\, Endeavour Place\, Taree\,\, NSW\, 2430\, Australia
END:VEVENT
BEGIN:VEVENT
DTSTART;TZID=Australia/Sydney:20261003T070000
DTEND;TZID=Australia/Sydney:20261003T083000
DTSTAMP:20260422T052658
CREATED:20241004T024045Z
LAST-MODIFIED:20241126T235515Z
UID:10000112-1791010800-1791016200@manningriverrowingclub.org.au
SUMMARY:Learn to Row
DESCRIPTION:Our Learn to Row program is on again this Saturday from 6:50am to 8:30am. \nSign up for the 6 week introductory course to participate. \nBe sure to bring sun protection\, water bottle\, thongs or sandals\, a towel and change of clothes.
URL:https://manningriverrowingclub.org.au/event/learn-to-row/2026-10-03/
LOCATION:Rowing Club\, Endeavour Place\, Taree\,\, NSW\, 2430\, Australia
END:VEVENT
BEGIN:VEVENT
DTSTART;TZID=Australia/Sydney:20261010T070000
DTEND;TZID=Australia/Sydney:20261010T083000
DTSTAMP:20260422T052658
CREATED:20241004T024045Z
LAST-MODIFIED:20241126T235515Z
UID:10000113-1791615600-1791621000@manningriverrowingclub.org.au
SUMMARY:Learn to Row
DESCRIPTION:Our Learn to Row program is on again this Saturday from 6:50am to 8:30am. \nSign up for the 6 week introductory course to participate. \nBe sure to bring sun protection\, water bottle\, thongs or sandals\, a towel and change of clothes.
URL:https://manningriverrowingclub.org.au/event/learn-to-row/2026-10-10/
LOCATION:Rowing Club\, Endeavour Place\, Taree\,\, NSW\, 2430\, Australia
END:VEVENT
BEGIN:VEVENT
DTSTART;TZID=Australia/Sydney:20261017T070000
DTEND;TZID=Australia/Sydney:20261017T083000
DTSTAMP:20260422T052658
CREATED:20241004T024045Z
LAST-MODIFIED:20241126T235515Z
UID:10000114-1792220400-1792225800@manningriverrowingclub.org.au
SUMMARY:Learn to Row
DESCRIPTION:Our Learn to Row program is on again this Saturday from 6:50am to 8:30am. \nSign up for the 6 week introductory course to participate. \nBe sure to bring sun protection\, water bottle\, thongs or sandals\, a towel and change of clothes.
URL:https://manningriverrowingclub.org.au/event/learn-to-row/2026-10-17/
LOCATION:Rowing Club\, Endeavour Place\, Taree\,\, NSW\, 2430\, Australia
END:VEVENT
BEGIN:VEVENT
DTSTART;TZID=Australia/Sydney:20261024T070000
DTEND;TZID=Australia/Sydney:20261024T083000
DTSTAMP:20260422T052658
CREATED:20241004T024045Z
LAST-MODIFIED:20241126T235515Z
UID:10000115-1792825200-1792830600@manningriverrowingclub.org.au
SUMMARY:Learn to Row
DESCRIPTION:Our Learn to Row program is on again this Saturday from 6:50am to 8:30am. \nSign up for the 6 week introductory course to participate. \nBe sure to bring sun protection\, water bottle\, thongs or sandals\, a towel and change of clothes.
URL:https://manningriverrowingclub.org.au/event/learn-to-row/2026-10-24/
LOCATION:Rowing Club\, Endeavour Place\, Taree\,\, NSW\, 2430\, Australia
END:VEVENT
BEGIN:VEVENT
DTSTART;TZID=Australia/Sydney:20261031T070000
DTEND;TZID=Australia/Sydney:20261031T083000
DTSTAMP:20260422T052658
CREATED:20241004T024045Z
LAST-MODIFIED:20241126T235515Z
UID:10000116-1793430000-1793435400@manningriverrowingclub.org.au
SUMMARY:Learn to Row
DESCRIPTION:Our Learn to Row program is on again this Saturday from 6:50am to 8:30am. \nSign up for the 6 week introductory course to participate. \nBe sure to bring sun protection\, water bottle\, thongs or sandals\, a towel and change of clothes.
URL:https://manningriverrowingclub.org.au/event/learn-to-row/2026-10-31/
LOCATION:Rowing Club\, Endeavour Place\, Taree\,\, NSW\, 2430\, Australia
END:VEVENT
BEGIN:VEVENT
DTSTART;TZID=Australia/Sydney:20261107T070000
DTEND;TZID=Australia/Sydney:20261107T083000
DTSTAMP:20260422T052658
CREATED:20241004T024045Z
LAST-MODIFIED:20241126T235515Z
UID:10000117-1794034800-1794040200@manningriverrowingclub.org.au
SUMMARY:Learn to Row
DESCRIPTION:Our Learn to Row program is on again this Saturday from 6:50am to 8:30am. \nSign up for the 6 week introductory course to participate. \nBe sure to bring sun protection\, water bottle\, thongs or sandals\, a towel and change of clothes.
URL:https://manningriverrowingclub.org.au/event/learn-to-row/2026-11-07/
LOCATION:Rowing Club\, Endeavour Place\, Taree\,\, NSW\, 2430\, Australia
END:VEVENT
BEGIN:VEVENT
DTSTART;TZID=Australia/Sydney:20261114T070000
DTEND;TZID=Australia/Sydney:20261114T083000
DTSTAMP:20260422T052658
CREATED:20241004T024045Z
LAST-MODIFIED:20241126T235515Z
UID:10000118-1794639600-1794645000@manningriverrowingclub.org.au
SUMMARY:Learn to Row
DESCRIPTION:Our Learn to Row program is on again this Saturday from 6:50am to 8:30am. \nSign up for the 6 week introductory course to participate. \nBe sure to bring sun protection\, water bottle\, thongs or sandals\, a towel and change of clothes.
URL:https://manningriverrowingclub.org.au/event/learn-to-row/2026-11-14/
LOCATION:Rowing Club\, Endeavour Place\, Taree\,\, NSW\, 2430\, Australia
END:VEVENT
BEGIN:VEVENT
DTSTART;TZID=Australia/Sydney:20261121T070000
DTEND;TZID=Australia/Sydney:20261121T083000
DTSTAMP:20260422T052658
CREATED:20241004T024045Z
LAST-MODIFIED:20241126T235515Z
UID:10000119-1795244400-1795249800@manningriverrowingclub.org.au
SUMMARY:Learn to Row
DESCRIPTION:Our Learn to Row program is on again this Saturday from 6:50am to 8:30am. \nSign up for the 6 week introductory course to participate. \nBe sure to bring sun protection\, water bottle\, thongs or sandals\, a towel and change of clothes.
URL:https://manningriverrowingclub.org.au/event/learn-to-row/2026-11-21/
LOCATION:Rowing Club\, Endeavour Place\, Taree\,\, NSW\, 2430\, Australia
END:VEVENT
BEGIN:VEVENT
DTSTART;TZID=Australia/Sydney:20261128T070000
DTEND;TZID=Australia/Sydney:20261128T083000
DTSTAMP:20260422T052658
CREATED:20241004T024045Z
LAST-MODIFIED:20241126T235515Z
UID:10000120-1795849200-1795854600@manningriverrowingclub.org.au
SUMMARY:Learn to Row
DESCRIPTION:Our Learn to Row program is on again this Saturday from 6:50am to 8:30am. \nSign up for the 6 week introductory course to participate. \nBe sure to bring sun protection\, water bottle\, thongs or sandals\, a towel and change of clothes.
URL:https://manningriverrowingclub.org.au/event/learn-to-row/2026-11-28/
LOCATION:Rowing Club\, Endeavour Place\, Taree\,\, NSW\, 2430\, Australia
END:VEVENT
BEGIN:VEVENT
DTSTART;TZID=Australia/Sydney:20261205T070000
DTEND;TZID=Australia/Sydney:20261205T083000
DTSTAMP:20260422T052658
CREATED:20241004T024045Z
LAST-MODIFIED:20241126T235515Z
UID:10000121-1796454000-1796459400@manningriverrowingclub.org.au
SUMMARY:Learn to Row
DESCRIPTION:Our Learn to Row program is on again this Saturday from 6:50am to 8:30am. \nSign up for the 6 week introductory course to participate. \nBe sure to bring sun protection\, water bottle\, thongs or sandals\, a towel and change of clothes.
URL:https://manningriverrowingclub.org.au/event/learn-to-row/2026-12-05/
LOCATION:Rowing Club\, Endeavour Place\, Taree\,\, NSW\, 2430\, Australia
END:VEVENT
BEGIN:VEVENT
DTSTART;TZID=Australia/Sydney:20261212T070000
DTEND;TZID=Australia/Sydney:20261212T083000
DTSTAMP:20260422T052658
CREATED:20241004T024045Z
LAST-MODIFIED:20241126T235515Z
UID:10000122-1797058800-1797064200@manningriverrowingclub.org.au
SUMMARY:Learn to Row
DESCRIPTION:Our Learn to Row program is on again this Saturday from 6:50am to 8:30am. \nSign up for the 6 week introductory course to participate. \nBe sure to bring sun protection\, water bottle\, thongs or sandals\, a towel and change of clothes.
URL:https://manningriverrowingclub.org.au/event/learn-to-row/2026-12-12/
LOCATION:Rowing Club\, Endeavour Place\, Taree\,\, NSW\, 2430\, Australia
END:VEVENT
BEGIN:VEVENT
DTSTART;TZID=Australia/Sydney:20261219T070000
DTEND;TZID=Australia/Sydney:20261219T083000
DTSTAMP:20260422T052658
CREATED:20241004T024045Z
LAST-MODIFIED:20241126T235515Z
UID:10000123-1797663600-1797669000@manningriverrowingclub.org.au
SUMMARY:Learn to Row
DESCRIPTION:Our Learn to Row program is on again this Saturday from 6:50am to 8:30am. \nSign up for the 6 week introductory course to participate. \nBe sure to bring sun protection\, water bottle\, thongs or sandals\, a towel and change of clothes.
URL:https://manningriverrowingclub.org.au/event/learn-to-row/2026-12-19/
LOCATION:Rowing Club\, Endeavour Place\, Taree\,\, NSW\, 2430\, Australia
END:VEVENT
BEGIN:VEVENT
DTSTART;TZID=Australia/Sydney:20261226T070000
DTEND;TZID=Australia/Sydney:20261226T083000
DTSTAMP:20260422T052658
CREATED:20241004T024045Z
LAST-MODIFIED:20241126T235515Z
UID:10000124-1798268400-1798273800@manningriverrowingclub.org.au
SUMMARY:Learn to Row
DESCRIPTION:Our Learn to Row program is on again this Saturday from 6:50am to 8:30am. \nSign up for the 6 week introductory course to participate. \nBe sure to bring sun protection\, water bottle\, thongs or sandals\, a towel and change of clothes.
URL:https://manningriverrowingclub.org.au/event/learn-to-row/2026-12-26/
LOCATION:Rowing Club\, Endeavour Place\, Taree\,\, NSW\, 2430\, Australia
END:VEVENT
BEGIN:VEVENT
DTSTART;TZID=Australia/Sydney:20270102T070000
DTEND;TZID=Australia/Sydney:20270102T083000
DTSTAMP:20260422T052658
CREATED:20241004T024045Z
LAST-MODIFIED:20241126T235515Z
UID:10000125-1798873200-1798878600@manningriverrowingclub.org.au
SUMMARY:Learn to Row
DESCRIPTION:Our Learn to Row program is on again this Saturday from 6:50am to 8:30am. \nSign up for the 6 week introductory course to participate. \nBe sure to bring sun protection\, water bottle\, thongs or sandals\, a towel and change of clothes.
URL:https://manningriverrowingclub.org.au/event/learn-to-row/2027-01-02/
LOCATION:Rowing Club\, Endeavour Place\, Taree\,\, NSW\, 2430\, Australia
END:VEVENT
BEGIN:VEVENT
DTSTART;TZID=Australia/Sydney:20270109T070000
DTEND;TZID=Australia/Sydney:20270109T083000
DTSTAMP:20260422T052658
CREATED:20241004T024045Z
LAST-MODIFIED:20241126T235515Z
UID:10000126-1799478000-1799483400@manningriverrowingclub.org.au
SUMMARY:Learn to Row
DESCRIPTION:Our Learn to Row program is on again this Saturday from 6:50am to 8:30am. \nSign up for the 6 week introductory course to participate. \nBe sure to bring sun protection\, water bottle\, thongs or sandals\, a towel and change of clothes.
URL:https://manningriverrowingclub.org.au/event/learn-to-row/2027-01-09/
LOCATION:Rowing Club\, Endeavour Place\, Taree\,\, NSW\, 2430\, Australia
END:VEVENT
BEGIN:VEVENT
DTSTART;TZID=Australia/Sydney:20270116T070000
DTEND;TZID=Australia/Sydney:20270116T083000
DTSTAMP:20260422T052658
CREATED:20241004T024045Z
LAST-MODIFIED:20241126T235515Z
UID:10000127-1800082800-1800088200@manningriverrowingclub.org.au
SUMMARY:Learn to Row
DESCRIPTION:Our Learn to Row program is on again this Saturday from 6:50am to 8:30am. \nSign up for the 6 week introductory course to participate. \nBe sure to bring sun protection\, water bottle\, thongs or sandals\, a towel and change of clothes.
URL:https://manningriverrowingclub.org.au/event/learn-to-row/2027-01-16/
LOCATION:Rowing Club\, Endeavour Place\, Taree\,\, NSW\, 2430\, Australia
END:VEVENT
BEGIN:VEVENT
DTSTART;TZID=Australia/Sydney:20270123T070000
DTEND;TZID=Australia/Sydney:20270123T083000
DTSTAMP:20260422T052658
CREATED:20241004T024045Z
LAST-MODIFIED:20241126T235515Z
UID:10000128-1800687600-1800693000@manningriverrowingclub.org.au
SUMMARY:Learn to Row
DESCRIPTION:Our Learn to Row program is on again this Saturday from 6:50am to 8:30am. \nSign up for the 6 week introductory course to participate. \nBe sure to bring sun protection\, water bottle\, thongs or sandals\, a towel and change of clothes.
URL:https://manningriverrowingclub.org.au/event/learn-to-row/2027-01-23/
LOCATION:Rowing Club\, Endeavour Place\, Taree\,\, NSW\, 2430\, Australia
END:VEVENT
BEGIN:VEVENT
DTSTART;TZID=Australia/Sydney:20270130T070000
DTEND;TZID=Australia/Sydney:20270130T083000
DTSTAMP:20260422T052658
CREATED:20241004T024045Z
LAST-MODIFIED:20241126T235515Z
UID:10000129-1801292400-1801297800@manningriverrowingclub.org.au
SUMMARY:Learn to Row
DESCRIPTION:Our Learn to Row program is on again this Saturday from 6:50am to 8:30am. \nSign up for the 6 week introductory course to participate. \nBe sure to bring sun protection\, water bottle\, thongs or sandals\, a towel and change of clothes.
URL:https://manningriverrowingclub.org.au/event/learn-to-row/2027-01-30/
LOCATION:Rowing Club\, Endeavour Place\, Taree\,\, NSW\, 2430\, Australia
END:VEVENT
BEGIN:VEVENT
DTSTART;TZID=Australia/Sydney:20270206T070000
DTEND;TZID=Australia/Sydney:20270206T083000
DTSTAMP:20260422T052659
CREATED:20241004T024045Z
LAST-MODIFIED:20241126T235515Z
UID:10000130-1801897200-1801902600@manningriverrowingclub.org.au
SUMMARY:Learn to Row
DESCRIPTION:Our Learn to Row program is on again this Saturday from 6:50am to 8:30am. \nSign up for the 6 week introductory course to participate. \nBe sure to bring sun protection\, water bottle\, thongs or sandals\, a towel and change of clothes.
URL:https://manningriverrowingclub.org.au/event/learn-to-row/2027-02-06/
LOCATION:Rowing Club\, Endeavour Place\, Taree\,\, NSW\, 2430\, Australia
END:VEVENT
END:VCALENDAR