BEGIN:VCALENDAR
VERSION:2.0
PRODID:-//Manning River Rowing Club - ECPv6.6.4//NONSGML v1.0//EN
CALSCALE:GREGORIAN
METHOD:PUBLISH
X-ORIGINAL-URL:https://manningriverrowingclub.org.au
X-WR-CALDESC:Events for Manning River Rowing Club
REFRESH-INTERVAL;VALUE=DURATION:PT1H
X-Robots-Tag:noindex
X-PUBLISHED-TTL:PT1H
BEGIN:VTIMEZONE
TZID:Australia/Sydney
BEGIN:STANDARD
TZOFFSETFROM:+1100
TZOFFSETTO:+1000
TZNAME:AEST
DTSTART:20270403T160000
END:STANDARD
BEGIN:DAYLIGHT
TZOFFSETFROM:+1000
TZOFFSETTO:+1100
TZNAME:AEDT
DTSTART:20271002T160000
END:DAYLIGHT
END:VTIMEZONE
BEGIN:VEVENT
DTSTART;TZID=Australia/Sydney:20270102T070000
DTEND;TZID=Australia/Sydney:20270102T083000
DTSTAMP:20260422T085538
CREATED:20241004T024045Z
LAST-MODIFIED:20241126T235515Z
UID:10000125-1798873200-1798878600@manningriverrowingclub.org.au
SUMMARY:Learn to Row
DESCRIPTION:Our Learn to Row program is on again this Saturday from 6:50am to 8:30am. \nSign up for the 6 week introductory course to participate. \nBe sure to bring sun protection\, water bottle\, thongs or sandals\, a towel and change of clothes.
URL:https://manningriverrowingclub.org.au/event/learn-to-row/2027-01-02/
LOCATION:Rowing Club\, Endeavour Place\, Taree\,\, NSW\, 2430\, Australia
END:VEVENT
BEGIN:VEVENT
DTSTART;TZID=Australia/Sydney:20270109T070000
DTEND;TZID=Australia/Sydney:20270109T083000
DTSTAMP:20260422T085538
CREATED:20241004T024045Z
LAST-MODIFIED:20241126T235515Z
UID:10000126-1799478000-1799483400@manningriverrowingclub.org.au
SUMMARY:Learn to Row
DESCRIPTION:Our Learn to Row program is on again this Saturday from 6:50am to 8:30am. \nSign up for the 6 week introductory course to participate. \nBe sure to bring sun protection\, water bottle\, thongs or sandals\, a towel and change of clothes.
URL:https://manningriverrowingclub.org.au/event/learn-to-row/2027-01-09/
LOCATION:Rowing Club\, Endeavour Place\, Taree\,\, NSW\, 2430\, Australia
END:VEVENT
BEGIN:VEVENT
DTSTART;TZID=Australia/Sydney:20270116T070000
DTEND;TZID=Australia/Sydney:20270116T083000
DTSTAMP:20260422T085538
CREATED:20241004T024045Z
LAST-MODIFIED:20241126T235515Z
UID:10000127-1800082800-1800088200@manningriverrowingclub.org.au
SUMMARY:Learn to Row
DESCRIPTION:Our Learn to Row program is on again this Saturday from 6:50am to 8:30am. \nSign up for the 6 week introductory course to participate. \nBe sure to bring sun protection\, water bottle\, thongs or sandals\, a towel and change of clothes.
URL:https://manningriverrowingclub.org.au/event/learn-to-row/2027-01-16/
LOCATION:Rowing Club\, Endeavour Place\, Taree\,\, NSW\, 2430\, Australia
END:VEVENT
BEGIN:VEVENT
DTSTART;TZID=Australia/Sydney:20270123T070000
DTEND;TZID=Australia/Sydney:20270123T083000
DTSTAMP:20260422T085538
CREATED:20241004T024045Z
LAST-MODIFIED:20241126T235515Z
UID:10000128-1800687600-1800693000@manningriverrowingclub.org.au
SUMMARY:Learn to Row
DESCRIPTION:Our Learn to Row program is on again this Saturday from 6:50am to 8:30am. \nSign up for the 6 week introductory course to participate. \nBe sure to bring sun protection\, water bottle\, thongs or sandals\, a towel and change of clothes.
URL:https://manningriverrowingclub.org.au/event/learn-to-row/2027-01-23/
LOCATION:Rowing Club\, Endeavour Place\, Taree\,\, NSW\, 2430\, Australia
END:VEVENT
BEGIN:VEVENT
DTSTART;TZID=Australia/Sydney:20270130T070000
DTEND;TZID=Australia/Sydney:20270130T083000
DTSTAMP:20260422T085538
CREATED:20241004T024045Z
LAST-MODIFIED:20241126T235515Z
UID:10000129-1801292400-1801297800@manningriverrowingclub.org.au
SUMMARY:Learn to Row
DESCRIPTION:Our Learn to Row program is on again this Saturday from 6:50am to 8:30am. \nSign up for the 6 week introductory course to participate. \nBe sure to bring sun protection\, water bottle\, thongs or sandals\, a towel and change of clothes.
URL:https://manningriverrowingclub.org.au/event/learn-to-row/2027-01-30/
LOCATION:Rowing Club\, Endeavour Place\, Taree\,\, NSW\, 2430\, Australia
END:VEVENT
BEGIN:VEVENT
DTSTART;TZID=Australia/Sydney:20270206T070000
DTEND;TZID=Australia/Sydney:20270206T083000
DTSTAMP:20260422T085538
CREATED:20241004T024045Z
LAST-MODIFIED:20241126T235515Z
UID:10000130-1801897200-1801902600@manningriverrowingclub.org.au
SUMMARY:Learn to Row
DESCRIPTION:Our Learn to Row program is on again this Saturday from 6:50am to 8:30am. \nSign up for the 6 week introductory course to participate. \nBe sure to bring sun protection\, water bottle\, thongs or sandals\, a towel and change of clothes.
URL:https://manningriverrowingclub.org.au/event/learn-to-row/2027-02-06/
LOCATION:Rowing Club\, Endeavour Place\, Taree\,\, NSW\, 2430\, Australia
END:VEVENT
BEGIN:VEVENT
DTSTART;TZID=Australia/Sydney:20270213T070000
DTEND;TZID=Australia/Sydney:20270213T083000
DTSTAMP:20260422T085538
CREATED:20241004T024045Z
LAST-MODIFIED:20241126T235515Z
UID:10000131-1802502000-1802507400@manningriverrowingclub.org.au
SUMMARY:Learn to Row
DESCRIPTION:Our Learn to Row program is on again this Saturday from 6:50am to 8:30am. \nSign up for the 6 week introductory course to participate. \nBe sure to bring sun protection\, water bottle\, thongs or sandals\, a towel and change of clothes.
URL:https://manningriverrowingclub.org.au/event/learn-to-row/2027-02-13/
LOCATION:Rowing Club\, Endeavour Place\, Taree\,\, NSW\, 2430\, Australia
END:VEVENT
BEGIN:VEVENT
DTSTART;TZID=Australia/Sydney:20270220T070000
DTEND;TZID=Australia/Sydney:20270220T083000
DTSTAMP:20260422T085538
CREATED:20241004T024045Z
LAST-MODIFIED:20241126T235515Z
UID:10000132-1803106800-1803112200@manningriverrowingclub.org.au
SUMMARY:Learn to Row
DESCRIPTION:Our Learn to Row program is on again this Saturday from 6:50am to 8:30am. \nSign up for the 6 week introductory course to participate. \nBe sure to bring sun protection\, water bottle\, thongs or sandals\, a towel and change of clothes.
URL:https://manningriverrowingclub.org.au/event/learn-to-row/2027-02-20/
LOCATION:Rowing Club\, Endeavour Place\, Taree\,\, NSW\, 2430\, Australia
END:VEVENT
BEGIN:VEVENT
DTSTART;TZID=Australia/Sydney:20270227T070000
DTEND;TZID=Australia/Sydney:20270227T083000
DTSTAMP:20260422T085538
CREATED:20241004T024045Z
LAST-MODIFIED:20241126T235515Z
UID:10000133-1803711600-1803717000@manningriverrowingclub.org.au
SUMMARY:Learn to Row
DESCRIPTION:Our Learn to Row program is on again this Saturday from 6:50am to 8:30am. \nSign up for the 6 week introductory course to participate. \nBe sure to bring sun protection\, water bottle\, thongs or sandals\, a towel and change of clothes.
URL:https://manningriverrowingclub.org.au/event/learn-to-row/2027-02-27/
LOCATION:Rowing Club\, Endeavour Place\, Taree\,\, NSW\, 2430\, Australia
END:VEVENT
BEGIN:VEVENT
DTSTART;TZID=Australia/Sydney:20270306T070000
DTEND;TZID=Australia/Sydney:20270306T083000
DTSTAMP:20260422T085538
CREATED:20241004T024045Z
LAST-MODIFIED:20241126T235515Z
UID:10000134-1804316400-1804321800@manningriverrowingclub.org.au
SUMMARY:Learn to Row
DESCRIPTION:Our Learn to Row program is on again this Saturday from 6:50am to 8:30am. \nSign up for the 6 week introductory course to participate. \nBe sure to bring sun protection\, water bottle\, thongs or sandals\, a towel and change of clothes.
URL:https://manningriverrowingclub.org.au/event/learn-to-row/2027-03-06/
LOCATION:Rowing Club\, Endeavour Place\, Taree\,\, NSW\, 2430\, Australia
END:VEVENT
BEGIN:VEVENT
DTSTART;TZID=Australia/Sydney:20270313T070000
DTEND;TZID=Australia/Sydney:20270313T083000
DTSTAMP:20260422T085538
CREATED:20241004T024045Z
LAST-MODIFIED:20241126T235515Z
UID:10000135-1804921200-1804926600@manningriverrowingclub.org.au
SUMMARY:Learn to Row
DESCRIPTION:Our Learn to Row program is on again this Saturday from 6:50am to 8:30am. \nSign up for the 6 week introductory course to participate. \nBe sure to bring sun protection\, water bottle\, thongs or sandals\, a towel and change of clothes.
URL:https://manningriverrowingclub.org.au/event/learn-to-row/2027-03-13/
LOCATION:Rowing Club\, Endeavour Place\, Taree\,\, NSW\, 2430\, Australia
END:VEVENT
BEGIN:VEVENT
DTSTART;TZID=Australia/Sydney:20270320T070000
DTEND;TZID=Australia/Sydney:20270320T083000
DTSTAMP:20260422T085538
CREATED:20241004T024045Z
LAST-MODIFIED:20241126T235515Z
UID:10000136-1805526000-1805531400@manningriverrowingclub.org.au
SUMMARY:Learn to Row
DESCRIPTION:Our Learn to Row program is on again this Saturday from 6:50am to 8:30am. \nSign up for the 6 week introductory course to participate. \nBe sure to bring sun protection\, water bottle\, thongs or sandals\, a towel and change of clothes.
URL:https://manningriverrowingclub.org.au/event/learn-to-row/2027-03-20/
LOCATION:Rowing Club\, Endeavour Place\, Taree\,\, NSW\, 2430\, Australia
END:VEVENT
BEGIN:VEVENT
DTSTART;TZID=Australia/Sydney:20270327T070000
DTEND;TZID=Australia/Sydney:20270327T083000
DTSTAMP:20260422T085538
CREATED:20241004T024045Z
LAST-MODIFIED:20241126T235515Z
UID:10000137-1806130800-1806136200@manningriverrowingclub.org.au
SUMMARY:Learn to Row
DESCRIPTION:Our Learn to Row program is on again this Saturday from 6:50am to 8:30am. \nSign up for the 6 week introductory course to participate. \nBe sure to bring sun protection\, water bottle\, thongs or sandals\, a towel and change of clothes.
URL:https://manningriverrowingclub.org.au/event/learn-to-row/2027-03-27/
LOCATION:Rowing Club\, Endeavour Place\, Taree\,\, NSW\, 2430\, Australia
END:VEVENT
BEGIN:VEVENT
DTSTART;TZID=Australia/Sydney:20270403T070000
DTEND;TZID=Australia/Sydney:20270403T083000
DTSTAMP:20260422T085538
CREATED:20241004T024045Z
LAST-MODIFIED:20241126T235515Z
UID:10000138-1806735600-1806741000@manningriverrowingclub.org.au
SUMMARY:Learn to Row
DESCRIPTION:Our Learn to Row program is on again this Saturday from 6:50am to 8:30am. \nSign up for the 6 week introductory course to participate. \nBe sure to bring sun protection\, water bottle\, thongs or sandals\, a towel and change of clothes.
URL:https://manningriverrowingclub.org.au/event/learn-to-row/2027-04-03/
LOCATION:Rowing Club\, Endeavour Place\, Taree\,\, NSW\, 2430\, Australia
END:VEVENT
BEGIN:VEVENT
DTSTART;TZID=Australia/Sydney:20270410T070000
DTEND;TZID=Australia/Sydney:20270410T083000
DTSTAMP:20260422T085538
CREATED:20241004T024045Z
LAST-MODIFIED:20241126T235515Z
UID:10000139-1807340400-1807345800@manningriverrowingclub.org.au
SUMMARY:Learn to Row
DESCRIPTION:Our Learn to Row program is on again this Saturday from 6:50am to 8:30am. \nSign up for the 6 week introductory course to participate. \nBe sure to bring sun protection\, water bottle\, thongs or sandals\, a towel and change of clothes.
URL:https://manningriverrowingclub.org.au/event/learn-to-row/2027-04-10/
LOCATION:Rowing Club\, Endeavour Place\, Taree\,\, NSW\, 2430\, Australia
END:VEVENT
BEGIN:VEVENT
DTSTART;TZID=Australia/Sydney:20270417T070000
DTEND;TZID=Australia/Sydney:20270417T083000
DTSTAMP:20260422T085538
CREATED:20241004T024045Z
LAST-MODIFIED:20241126T235515Z
UID:10000140-1807945200-1807950600@manningriverrowingclub.org.au
SUMMARY:Learn to Row
DESCRIPTION:Our Learn to Row program is on again this Saturday from 6:50am to 8:30am. \nSign up for the 6 week introductory course to participate. \nBe sure to bring sun protection\, water bottle\, thongs or sandals\, a towel and change of clothes.
URL:https://manningriverrowingclub.org.au/event/learn-to-row/2027-04-17/
LOCATION:Rowing Club\, Endeavour Place\, Taree\,\, NSW\, 2430\, Australia
END:VEVENT
BEGIN:VEVENT
DTSTART;TZID=Australia/Sydney:20270424T070000
DTEND;TZID=Australia/Sydney:20270424T083000
DTSTAMP:20260422T085538
CREATED:20241004T024045Z
LAST-MODIFIED:20241126T235515Z
UID:10000141-1808550000-1808555400@manningriverrowingclub.org.au
SUMMARY:Learn to Row
DESCRIPTION:Our Learn to Row program is on again this Saturday from 6:50am to 8:30am. \nSign up for the 6 week introductory course to participate. \nBe sure to bring sun protection\, water bottle\, thongs or sandals\, a towel and change of clothes.
URL:https://manningriverrowingclub.org.au/event/learn-to-row/2027-04-24/
LOCATION:Rowing Club\, Endeavour Place\, Taree\,\, NSW\, 2430\, Australia
END:VEVENT
BEGIN:VEVENT
DTSTART;TZID=Australia/Sydney:20270501T070000
DTEND;TZID=Australia/Sydney:20270501T083000
DTSTAMP:20260422T085538
CREATED:20241004T024045Z
LAST-MODIFIED:20241126T235515Z
UID:10000142-1809154800-1809160200@manningriverrowingclub.org.au
SUMMARY:Learn to Row
DESCRIPTION:Our Learn to Row program is on again this Saturday from 6:50am to 8:30am. \nSign up for the 6 week introductory course to participate. \nBe sure to bring sun protection\, water bottle\, thongs or sandals\, a towel and change of clothes.
URL:https://manningriverrowingclub.org.au/event/learn-to-row/2027-05-01/
LOCATION:Rowing Club\, Endeavour Place\, Taree\,\, NSW\, 2430\, Australia
END:VEVENT
BEGIN:VEVENT
DTSTART;TZID=Australia/Sydney:20270508T070000
DTEND;TZID=Australia/Sydney:20270508T083000
DTSTAMP:20260422T085538
CREATED:20241004T024045Z
LAST-MODIFIED:20241126T235515Z
UID:10000143-1809759600-1809765000@manningriverrowingclub.org.au
SUMMARY:Learn to Row
DESCRIPTION:Our Learn to Row program is on again this Saturday from 6:50am to 8:30am. \nSign up for the 6 week introductory course to participate. \nBe sure to bring sun protection\, water bottle\, thongs or sandals\, a towel and change of clothes.
URL:https://manningriverrowingclub.org.au/event/learn-to-row/2027-05-08/
LOCATION:Rowing Club\, Endeavour Place\, Taree\,\, NSW\, 2430\, Australia
END:VEVENT
BEGIN:VEVENT
DTSTART;TZID=Australia/Sydney:20270515T070000
DTEND;TZID=Australia/Sydney:20270515T083000
DTSTAMP:20260422T085538
CREATED:20241004T024045Z
LAST-MODIFIED:20241126T235515Z
UID:10000144-1810364400-1810369800@manningriverrowingclub.org.au
SUMMARY:Learn to Row
DESCRIPTION:Our Learn to Row program is on again this Saturday from 6:50am to 8:30am. \nSign up for the 6 week introductory course to participate. \nBe sure to bring sun protection\, water bottle\, thongs or sandals\, a towel and change of clothes.
URL:https://manningriverrowingclub.org.au/event/learn-to-row/2027-05-15/
LOCATION:Rowing Club\, Endeavour Place\, Taree\,\, NSW\, 2430\, Australia
END:VEVENT
BEGIN:VEVENT
DTSTART;TZID=Australia/Sydney:20270522T070000
DTEND;TZID=Australia/Sydney:20270522T083000
DTSTAMP:20260422T085538
CREATED:20241004T024045Z
LAST-MODIFIED:20241126T235515Z
UID:10000145-1810969200-1810974600@manningriverrowingclub.org.au
SUMMARY:Learn to Row
DESCRIPTION:Our Learn to Row program is on again this Saturday from 6:50am to 8:30am. \nSign up for the 6 week introductory course to participate. \nBe sure to bring sun protection\, water bottle\, thongs or sandals\, a towel and change of clothes.
URL:https://manningriverrowingclub.org.au/event/learn-to-row/2027-05-22/
LOCATION:Rowing Club\, Endeavour Place\, Taree\,\, NSW\, 2430\, Australia
END:VEVENT
BEGIN:VEVENT
DTSTART;TZID=Australia/Sydney:20270529T070000
DTEND;TZID=Australia/Sydney:20270529T083000
DTSTAMP:20260422T085538
CREATED:20241004T024045Z
LAST-MODIFIED:20241126T235515Z
UID:10000146-1811574000-1811579400@manningriverrowingclub.org.au
SUMMARY:Learn to Row
DESCRIPTION:Our Learn to Row program is on again this Saturday from 6:50am to 8:30am. \nSign up for the 6 week introductory course to participate. \nBe sure to bring sun protection\, water bottle\, thongs or sandals\, a towel and change of clothes.
URL:https://manningriverrowingclub.org.au/event/learn-to-row/2027-05-29/
LOCATION:Rowing Club\, Endeavour Place\, Taree\,\, NSW\, 2430\, Australia
END:VEVENT
BEGIN:VEVENT
DTSTART;TZID=Australia/Sydney:20270605T070000
DTEND;TZID=Australia/Sydney:20270605T083000
DTSTAMP:20260422T085538
CREATED:20241004T024045Z
LAST-MODIFIED:20241126T235515Z
UID:10000147-1812178800-1812184200@manningriverrowingclub.org.au
SUMMARY:Learn to Row
DESCRIPTION:Our Learn to Row program is on again this Saturday from 6:50am to 8:30am. \nSign up for the 6 week introductory course to participate. \nBe sure to bring sun protection\, water bottle\, thongs or sandals\, a towel and change of clothes.
URL:https://manningriverrowingclub.org.au/event/learn-to-row/2027-06-05/
LOCATION:Rowing Club\, Endeavour Place\, Taree\,\, NSW\, 2430\, Australia
END:VEVENT
BEGIN:VEVENT
DTSTART;TZID=Australia/Sydney:20270612T070000
DTEND;TZID=Australia/Sydney:20270612T083000
DTSTAMP:20260422T085538
CREATED:20241004T024045Z
LAST-MODIFIED:20241126T235515Z
UID:10000148-1812783600-1812789000@manningriverrowingclub.org.au
SUMMARY:Learn to Row
DESCRIPTION:Our Learn to Row program is on again this Saturday from 6:50am to 8:30am. \nSign up for the 6 week introductory course to participate. \nBe sure to bring sun protection\, water bottle\, thongs or sandals\, a towel and change of clothes.
URL:https://manningriverrowingclub.org.au/event/learn-to-row/2027-06-12/
LOCATION:Rowing Club\, Endeavour Place\, Taree\,\, NSW\, 2430\, Australia
END:VEVENT
BEGIN:VEVENT
DTSTART;TZID=Australia/Sydney:20270619T070000
DTEND;TZID=Australia/Sydney:20270619T083000
DTSTAMP:20260422T085538
CREATED:20241004T024045Z
LAST-MODIFIED:20241126T235515Z
UID:10000149-1813388400-1813393800@manningriverrowingclub.org.au
SUMMARY:Learn to Row
DESCRIPTION:Our Learn to Row program is on again this Saturday from 6:50am to 8:30am. \nSign up for the 6 week introductory course to participate. \nBe sure to bring sun protection\, water bottle\, thongs or sandals\, a towel and change of clothes.
URL:https://manningriverrowingclub.org.au/event/learn-to-row/2027-06-19/
LOCATION:Rowing Club\, Endeavour Place\, Taree\,\, NSW\, 2430\, Australia
END:VEVENT
BEGIN:VEVENT
DTSTART;TZID=Australia/Sydney:20270626T070000
DTEND;TZID=Australia/Sydney:20270626T083000
DTSTAMP:20260422T085538
CREATED:20241004T024045Z
LAST-MODIFIED:20241126T235515Z
UID:10000150-1813993200-1813998600@manningriverrowingclub.org.au
SUMMARY:Learn to Row
DESCRIPTION:Our Learn to Row program is on again this Saturday from 6:50am to 8:30am. \nSign up for the 6 week introductory course to participate. \nBe sure to bring sun protection\, water bottle\, thongs or sandals\, a towel and change of clothes.
URL:https://manningriverrowingclub.org.au/event/learn-to-row/2027-06-26/
LOCATION:Rowing Club\, Endeavour Place\, Taree\,\, NSW\, 2430\, Australia
END:VEVENT
BEGIN:VEVENT
DTSTART;TZID=Australia/Sydney:20270703T070000
DTEND;TZID=Australia/Sydney:20270703T083000
DTSTAMP:20260422T085538
CREATED:20241004T024045Z
LAST-MODIFIED:20241126T235515Z
UID:10000151-1814598000-1814603400@manningriverrowingclub.org.au
SUMMARY:Learn to Row
DESCRIPTION:Our Learn to Row program is on again this Saturday from 6:50am to 8:30am. \nSign up for the 6 week introductory course to participate. \nBe sure to bring sun protection\, water bottle\, thongs or sandals\, a towel and change of clothes.
URL:https://manningriverrowingclub.org.au/event/learn-to-row/2027-07-03/
LOCATION:Rowing Club\, Endeavour Place\, Taree\,\, NSW\, 2430\, Australia
END:VEVENT
BEGIN:VEVENT
DTSTART;TZID=Australia/Sydney:20270710T070000
DTEND;TZID=Australia/Sydney:20270710T083000
DTSTAMP:20260422T085538
CREATED:20241004T024045Z
LAST-MODIFIED:20241126T235515Z
UID:10000152-1815202800-1815208200@manningriverrowingclub.org.au
SUMMARY:Learn to Row
DESCRIPTION:Our Learn to Row program is on again this Saturday from 6:50am to 8:30am. \nSign up for the 6 week introductory course to participate. \nBe sure to bring sun protection\, water bottle\, thongs or sandals\, a towel and change of clothes.
URL:https://manningriverrowingclub.org.au/event/learn-to-row/2027-07-10/
LOCATION:Rowing Club\, Endeavour Place\, Taree\,\, NSW\, 2430\, Australia
END:VEVENT
BEGIN:VEVENT
DTSTART;TZID=Australia/Sydney:20270717T070000
DTEND;TZID=Australia/Sydney:20270717T083000
DTSTAMP:20260422T085538
CREATED:20241004T024045Z
LAST-MODIFIED:20241126T235515Z
UID:10000153-1815807600-1815813000@manningriverrowingclub.org.au
SUMMARY:Learn to Row
DESCRIPTION:Our Learn to Row program is on again this Saturday from 6:50am to 8:30am. \nSign up for the 6 week introductory course to participate. \nBe sure to bring sun protection\, water bottle\, thongs or sandals\, a towel and change of clothes.
URL:https://manningriverrowingclub.org.au/event/learn-to-row/2027-07-17/
LOCATION:Rowing Club\, Endeavour Place\, Taree\,\, NSW\, 2430\, Australia
END:VEVENT
BEGIN:VEVENT
DTSTART;TZID=Australia/Sydney:20270724T070000
DTEND;TZID=Australia/Sydney:20270724T083000
DTSTAMP:20260422T085538
CREATED:20241004T024045Z
LAST-MODIFIED:20241126T235515Z
UID:10000154-1816412400-1816417800@manningriverrowingclub.org.au
SUMMARY:Learn to Row
DESCRIPTION:Our Learn to Row program is on again this Saturday from 6:50am to 8:30am. \nSign up for the 6 week introductory course to participate. \nBe sure to bring sun protection\, water bottle\, thongs or sandals\, a towel and change of clothes.
URL:https://manningriverrowingclub.org.au/event/learn-to-row/2027-07-24/
LOCATION:Rowing Club\, Endeavour Place\, Taree\,\, NSW\, 2430\, Australia
END:VEVENT
END:VCALENDAR