BEGIN:VCALENDAR
VERSION:2.0
PRODID:-//Manning River Rowing Club - ECPv6.6.4//NONSGML v1.0//EN
CALSCALE:GREGORIAN
METHOD:PUBLISH
X-ORIGINAL-URL:https://manningriverrowingclub.org.au
X-WR-CALDESC:Events for Manning River Rowing Club
REFRESH-INTERVAL;VALUE=DURATION:PT1H
X-Robots-Tag:noindex
X-PUBLISHED-TTL:PT1H
BEGIN:VTIMEZONE
TZID:Australia/Sydney
BEGIN:STANDARD
TZOFFSETFROM:+1100
TZOFFSETTO:+1000
TZNAME:AEST
DTSTART:20240406T160000
END:STANDARD
BEGIN:DAYLIGHT
TZOFFSETFROM:+1000
TZOFFSETTO:+1100
TZNAME:AEDT
DTSTART:20241005T160000
END:DAYLIGHT
BEGIN:STANDARD
TZOFFSETFROM:+1100
TZOFFSETTO:+1000
TZNAME:AEST
DTSTART:20250405T160000
END:STANDARD
BEGIN:DAYLIGHT
TZOFFSETFROM:+1000
TZOFFSETTO:+1100
TZNAME:AEDT
DTSTART:20251004T160000
END:DAYLIGHT
END:VTIMEZONE
BEGIN:VEVENT
DTSTART;TZID=Australia/Sydney:20250517T070000
DTEND;TZID=Australia/Sydney:20250517T083000
DTSTAMP:20260418T091637
CREATED:20241004T024045Z
LAST-MODIFIED:20241126T235515Z
UID:10000040-1747465200-1747470600@manningriverrowingclub.org.au
SUMMARY:Learn to Row
DESCRIPTION:Our Learn to Row program is on again this Saturday from 6:50am to 8:30am. \nSign up for the 6 week introductory course to participate. \nBe sure to bring sun protection\, water bottle\, thongs or sandals\, a towel and change of clothes.
URL:https://manningriverrowingclub.org.au/event/learn-to-row/2025-05-17/
LOCATION:Rowing Club\, Endeavour Place\, Taree\,\, NSW\, 2430\, Australia
END:VEVENT
BEGIN:VEVENT
DTSTART;TZID=Australia/Sydney:20250510T070000
DTEND;TZID=Australia/Sydney:20250510T083000
DTSTAMP:20260418T091637
CREATED:20241004T024045Z
LAST-MODIFIED:20241126T235515Z
UID:10000039-1746860400-1746865800@manningriverrowingclub.org.au
SUMMARY:Learn to Row
DESCRIPTION:Our Learn to Row program is on again this Saturday from 6:50am to 8:30am. \nSign up for the 6 week introductory course to participate. \nBe sure to bring sun protection\, water bottle\, thongs or sandals\, a towel and change of clothes.
URL:https://manningriverrowingclub.org.au/event/learn-to-row/2025-05-10/
LOCATION:Rowing Club\, Endeavour Place\, Taree\,\, NSW\, 2430\, Australia
END:VEVENT
BEGIN:VEVENT
DTSTART;TZID=Australia/Sydney:20250503T070000
DTEND;TZID=Australia/Sydney:20250503T083000
DTSTAMP:20260418T091637
CREATED:20241004T024045Z
LAST-MODIFIED:20241126T235515Z
UID:10000038-1746255600-1746261000@manningriverrowingclub.org.au
SUMMARY:Learn to Row
DESCRIPTION:Our Learn to Row program is on again this Saturday from 6:50am to 8:30am. \nSign up for the 6 week introductory course to participate. \nBe sure to bring sun protection\, water bottle\, thongs or sandals\, a towel and change of clothes.
URL:https://manningriverrowingclub.org.au/event/learn-to-row/2025-05-03/
LOCATION:Rowing Club\, Endeavour Place\, Taree\,\, NSW\, 2430\, Australia
END:VEVENT
BEGIN:VEVENT
DTSTART;TZID=Australia/Sydney:20250426T070000
DTEND;TZID=Australia/Sydney:20250426T083000
DTSTAMP:20260418T091637
CREATED:20241004T024045Z
LAST-MODIFIED:20241126T235515Z
UID:10000037-1745650800-1745656200@manningriverrowingclub.org.au
SUMMARY:Learn to Row
DESCRIPTION:Our Learn to Row program is on again this Saturday from 6:50am to 8:30am. \nSign up for the 6 week introductory course to participate. \nBe sure to bring sun protection\, water bottle\, thongs or sandals\, a towel and change of clothes.
URL:https://manningriverrowingclub.org.au/event/learn-to-row/2025-04-26/
LOCATION:Rowing Club\, Endeavour Place\, Taree\,\, NSW\, 2430\, Australia
END:VEVENT
BEGIN:VEVENT
DTSTART;TZID=Australia/Sydney:20250419T070000
DTEND;TZID=Australia/Sydney:20250419T083000
DTSTAMP:20260418T091637
CREATED:20241004T024045Z
LAST-MODIFIED:20241126T235515Z
UID:10000036-1745046000-1745051400@manningriverrowingclub.org.au
SUMMARY:Learn to Row
DESCRIPTION:Our Learn to Row program is on again this Saturday from 6:50am to 8:30am. \nSign up for the 6 week introductory course to participate. \nBe sure to bring sun protection\, water bottle\, thongs or sandals\, a towel and change of clothes.
URL:https://manningriverrowingclub.org.au/event/learn-to-row/2025-04-19/
LOCATION:Rowing Club\, Endeavour Place\, Taree\,\, NSW\, 2430\, Australia
END:VEVENT
BEGIN:VEVENT
DTSTART;TZID=Australia/Sydney:20250412T070000
DTEND;TZID=Australia/Sydney:20250412T083000
DTSTAMP:20260418T091637
CREATED:20241004T024045Z
LAST-MODIFIED:20241126T235515Z
UID:10000035-1744441200-1744446600@manningriverrowingclub.org.au
SUMMARY:Learn to Row
DESCRIPTION:Our Learn to Row program is on again this Saturday from 6:50am to 8:30am. \nSign up for the 6 week introductory course to participate. \nBe sure to bring sun protection\, water bottle\, thongs or sandals\, a towel and change of clothes.
URL:https://manningriverrowingclub.org.au/event/learn-to-row/2025-04-12/
LOCATION:Rowing Club\, Endeavour Place\, Taree\,\, NSW\, 2430\, Australia
END:VEVENT
BEGIN:VEVENT
DTSTART;TZID=Australia/Sydney:20250405T070000
DTEND;TZID=Australia/Sydney:20250405T083000
DTSTAMP:20260418T091637
CREATED:20241004T024045Z
LAST-MODIFIED:20241126T235515Z
UID:10000034-1743836400-1743841800@manningriverrowingclub.org.au
SUMMARY:Learn to Row
DESCRIPTION:Our Learn to Row program is on again this Saturday from 6:50am to 8:30am. \nSign up for the 6 week introductory course to participate. \nBe sure to bring sun protection\, water bottle\, thongs or sandals\, a towel and change of clothes.
URL:https://manningriverrowingclub.org.au/event/learn-to-row/2025-04-05/
LOCATION:Rowing Club\, Endeavour Place\, Taree\,\, NSW\, 2430\, Australia
END:VEVENT
BEGIN:VEVENT
DTSTART;TZID=Australia/Sydney:20250329T070000
DTEND;TZID=Australia/Sydney:20250329T083000
DTSTAMP:20260418T091637
CREATED:20241004T024045Z
LAST-MODIFIED:20241126T235515Z
UID:10000033-1743231600-1743237000@manningriverrowingclub.org.au
SUMMARY:Learn to Row
DESCRIPTION:Our Learn to Row program is on again this Saturday from 6:50am to 8:30am. \nSign up for the 6 week introductory course to participate. \nBe sure to bring sun protection\, water bottle\, thongs or sandals\, a towel and change of clothes.
URL:https://manningriverrowingclub.org.au/event/learn-to-row/2025-03-29/
LOCATION:Rowing Club\, Endeavour Place\, Taree\,\, NSW\, 2430\, Australia
END:VEVENT
BEGIN:VEVENT
DTSTART;TZID=Australia/Sydney:20250322T070000
DTEND;TZID=Australia/Sydney:20250322T083000
DTSTAMP:20260418T091637
CREATED:20241004T024045Z
LAST-MODIFIED:20241126T235515Z
UID:10000032-1742626800-1742632200@manningriverrowingclub.org.au
SUMMARY:Learn to Row
DESCRIPTION:Our Learn to Row program is on again this Saturday from 6:50am to 8:30am. \nSign up for the 6 week introductory course to participate. \nBe sure to bring sun protection\, water bottle\, thongs or sandals\, a towel and change of clothes.
URL:https://manningriverrowingclub.org.au/event/learn-to-row/2025-03-22/
LOCATION:Rowing Club\, Endeavour Place\, Taree\,\, NSW\, 2430\, Australia
END:VEVENT
BEGIN:VEVENT
DTSTART;TZID=Australia/Sydney:20250315T070000
DTEND;TZID=Australia/Sydney:20250315T083000
DTSTAMP:20260418T091637
CREATED:20241004T024045Z
LAST-MODIFIED:20241126T235515Z
UID:10000031-1742022000-1742027400@manningriverrowingclub.org.au
SUMMARY:Learn to Row
DESCRIPTION:Our Learn to Row program is on again this Saturday from 6:50am to 8:30am. \nSign up for the 6 week introductory course to participate. \nBe sure to bring sun protection\, water bottle\, thongs or sandals\, a towel and change of clothes.
URL:https://manningriverrowingclub.org.au/event/learn-to-row/2025-03-15/
LOCATION:Rowing Club\, Endeavour Place\, Taree\,\, NSW\, 2430\, Australia
END:VEVENT
BEGIN:VEVENT
DTSTART;TZID=Australia/Sydney:20250308T070000
DTEND;TZID=Australia/Sydney:20250308T083000
DTSTAMP:20260418T091637
CREATED:20241004T024045Z
LAST-MODIFIED:20241126T235515Z
UID:10000030-1741417200-1741422600@manningriverrowingclub.org.au
SUMMARY:Learn to Row
DESCRIPTION:Our Learn to Row program is on again this Saturday from 6:50am to 8:30am. \nSign up for the 6 week introductory course to participate. \nBe sure to bring sun protection\, water bottle\, thongs or sandals\, a towel and change of clothes.
URL:https://manningriverrowingclub.org.au/event/learn-to-row/2025-03-08/
LOCATION:Rowing Club\, Endeavour Place\, Taree\,\, NSW\, 2430\, Australia
END:VEVENT
BEGIN:VEVENT
DTSTART;TZID=Australia/Sydney:20250301T070000
DTEND;TZID=Australia/Sydney:20250301T083000
DTSTAMP:20260418T091637
CREATED:20241004T024045Z
LAST-MODIFIED:20241126T235515Z
UID:10000029-1740812400-1740817800@manningriverrowingclub.org.au
SUMMARY:Learn to Row
DESCRIPTION:Our Learn to Row program is on again this Saturday from 6:50am to 8:30am. \nSign up for the 6 week introductory course to participate. \nBe sure to bring sun protection\, water bottle\, thongs or sandals\, a towel and change of clothes.
URL:https://manningriverrowingclub.org.au/event/learn-to-row/2025-03-01/
LOCATION:Rowing Club\, Endeavour Place\, Taree\,\, NSW\, 2430\, Australia
END:VEVENT
BEGIN:VEVENT
DTSTART;TZID=Australia/Sydney:20250222T070000
DTEND;TZID=Australia/Sydney:20250222T083000
DTSTAMP:20260418T091637
CREATED:20241004T024045Z
LAST-MODIFIED:20241126T235515Z
UID:10000028-1740207600-1740213000@manningriverrowingclub.org.au
SUMMARY:Learn to Row
DESCRIPTION:Our Learn to Row program is on again this Saturday from 6:50am to 8:30am. \nSign up for the 6 week introductory course to participate. \nBe sure to bring sun protection\, water bottle\, thongs or sandals\, a towel and change of clothes.
URL:https://manningriverrowingclub.org.au/event/learn-to-row/2025-02-22/
LOCATION:Rowing Club\, Endeavour Place\, Taree\,\, NSW\, 2430\, Australia
END:VEVENT
BEGIN:VEVENT
DTSTART;TZID=Australia/Sydney:20250215T070000
DTEND;TZID=Australia/Sydney:20250215T083000
DTSTAMP:20260418T091637
CREATED:20241004T024045Z
LAST-MODIFIED:20241126T235515Z
UID:10000027-1739602800-1739608200@manningriverrowingclub.org.au
SUMMARY:Learn to Row
DESCRIPTION:Our Learn to Row program is on again this Saturday from 6:50am to 8:30am. \nSign up for the 6 week introductory course to participate. \nBe sure to bring sun protection\, water bottle\, thongs or sandals\, a towel and change of clothes.
URL:https://manningriverrowingclub.org.au/event/learn-to-row/2025-02-15/
LOCATION:Rowing Club\, Endeavour Place\, Taree\,\, NSW\, 2430\, Australia
END:VEVENT
BEGIN:VEVENT
DTSTART;TZID=Australia/Sydney:20250208T070000
DTEND;TZID=Australia/Sydney:20250208T083000
DTSTAMP:20260418T091637
CREATED:20241004T024045Z
LAST-MODIFIED:20241126T235515Z
UID:10000026-1738998000-1739003400@manningriverrowingclub.org.au
SUMMARY:Learn to Row
DESCRIPTION:Our Learn to Row program is on again this Saturday from 6:50am to 8:30am. \nSign up for the 6 week introductory course to participate. \nBe sure to bring sun protection\, water bottle\, thongs or sandals\, a towel and change of clothes.
URL:https://manningriverrowingclub.org.au/event/learn-to-row/2025-02-08/
LOCATION:Rowing Club\, Endeavour Place\, Taree\,\, NSW\, 2430\, Australia
END:VEVENT
BEGIN:VEVENT
DTSTART;TZID=Australia/Sydney:20250201T070000
DTEND;TZID=Australia/Sydney:20250201T083000
DTSTAMP:20260418T091637
CREATED:20241004T024045Z
LAST-MODIFIED:20241126T235515Z
UID:10000025-1738393200-1738398600@manningriverrowingclub.org.au
SUMMARY:Learn to Row
DESCRIPTION:Our Learn to Row program is on again this Saturday from 6:50am to 8:30am. \nSign up for the 6 week introductory course to participate. \nBe sure to bring sun protection\, water bottle\, thongs or sandals\, a towel and change of clothes.
URL:https://manningriverrowingclub.org.au/event/learn-to-row/2025-02-01/
LOCATION:Rowing Club\, Endeavour Place\, Taree\,\, NSW\, 2430\, Australia
END:VEVENT
BEGIN:VEVENT
DTSTART;TZID=Australia/Sydney:20250125T070000
DTEND;TZID=Australia/Sydney:20250125T083000
DTSTAMP:20260418T091637
CREATED:20241004T024045Z
LAST-MODIFIED:20241126T235515Z
UID:10000024-1737788400-1737793800@manningriverrowingclub.org.au
SUMMARY:Learn to Row
DESCRIPTION:Our Learn to Row program is on again this Saturday from 6:50am to 8:30am. \nSign up for the 6 week introductory course to participate. \nBe sure to bring sun protection\, water bottle\, thongs or sandals\, a towel and change of clothes.
URL:https://manningriverrowingclub.org.au/event/learn-to-row/2025-01-25/
LOCATION:Rowing Club\, Endeavour Place\, Taree\,\, NSW\, 2430\, Australia
END:VEVENT
BEGIN:VEVENT
DTSTART;TZID=Australia/Sydney:20250118T070000
DTEND;TZID=Australia/Sydney:20250118T083000
DTSTAMP:20260418T091637
CREATED:20241004T024045Z
LAST-MODIFIED:20241126T235515Z
UID:10000023-1737183600-1737189000@manningriverrowingclub.org.au
SUMMARY:Learn to Row
DESCRIPTION:Our Learn to Row program is on again this Saturday from 6:50am to 8:30am. \nSign up for the 6 week introductory course to participate. \nBe sure to bring sun protection\, water bottle\, thongs or sandals\, a towel and change of clothes.
URL:https://manningriverrowingclub.org.au/event/learn-to-row/2025-01-18/
LOCATION:Rowing Club\, Endeavour Place\, Taree\,\, NSW\, 2430\, Australia
END:VEVENT
BEGIN:VEVENT
DTSTART;TZID=Australia/Sydney:20250111T070000
DTEND;TZID=Australia/Sydney:20250111T083000
DTSTAMP:20260418T091637
CREATED:20241004T024045Z
LAST-MODIFIED:20241126T235515Z
UID:10000022-1736578800-1736584200@manningriverrowingclub.org.au
SUMMARY:Learn to Row
DESCRIPTION:Our Learn to Row program is on again this Saturday from 6:50am to 8:30am. \nSign up for the 6 week introductory course to participate. \nBe sure to bring sun protection\, water bottle\, thongs or sandals\, a towel and change of clothes.
URL:https://manningriverrowingclub.org.au/event/learn-to-row/2025-01-11/
LOCATION:Rowing Club\, Endeavour Place\, Taree\,\, NSW\, 2430\, Australia
END:VEVENT
BEGIN:VEVENT
DTSTART;TZID=Australia/Sydney:20250104T070000
DTEND;TZID=Australia/Sydney:20250104T083000
DTSTAMP:20260418T091637
CREATED:20241004T024045Z
LAST-MODIFIED:20241126T235515Z
UID:10000021-1735974000-1735979400@manningriverrowingclub.org.au
SUMMARY:Learn to Row
DESCRIPTION:Our Learn to Row program is on again this Saturday from 6:50am to 8:30am. \nSign up for the 6 week introductory course to participate. \nBe sure to bring sun protection\, water bottle\, thongs or sandals\, a towel and change of clothes.
URL:https://manningriverrowingclub.org.au/event/learn-to-row/2025-01-04/
LOCATION:Rowing Club\, Endeavour Place\, Taree\,\, NSW\, 2430\, Australia
END:VEVENT
BEGIN:VEVENT
DTSTART;TZID=Australia/Sydney:20241228T070000
DTEND;TZID=Australia/Sydney:20241228T083000
DTSTAMP:20260418T091637
CREATED:20241004T024045Z
LAST-MODIFIED:20241126T235515Z
UID:10000020-1735369200-1735374600@manningriverrowingclub.org.au
SUMMARY:Learn to Row
DESCRIPTION:Our Learn to Row program is on again this Saturday from 6:50am to 8:30am. \nSign up for the 6 week introductory course to participate. \nBe sure to bring sun protection\, water bottle\, thongs or sandals\, a towel and change of clothes.
URL:https://manningriverrowingclub.org.au/event/learn-to-row/2024-12-28/
LOCATION:Rowing Club\, Endeavour Place\, Taree\,\, NSW\, 2430\, Australia
END:VEVENT
BEGIN:VEVENT
DTSTART;TZID=Australia/Sydney:20241221T070000
DTEND;TZID=Australia/Sydney:20241221T083000
DTSTAMP:20260418T091637
CREATED:20241004T024045Z
LAST-MODIFIED:20241126T235515Z
UID:10000019-1734764400-1734769800@manningriverrowingclub.org.au
SUMMARY:Learn to Row
DESCRIPTION:Our Learn to Row program is on again this Saturday from 6:50am to 8:30am. \nSign up for the 6 week introductory course to participate. \nBe sure to bring sun protection\, water bottle\, thongs or sandals\, a towel and change of clothes.
URL:https://manningriverrowingclub.org.au/event/learn-to-row/2024-12-21/
LOCATION:Rowing Club\, Endeavour Place\, Taree\,\, NSW\, 2430\, Australia
END:VEVENT
BEGIN:VEVENT
DTSTART;TZID=Australia/Sydney:20241214T070000
DTEND;TZID=Australia/Sydney:20241214T083000
DTSTAMP:20260418T091637
CREATED:20241004T024045Z
LAST-MODIFIED:20241126T235515Z
UID:10000018-1734159600-1734165000@manningriverrowingclub.org.au
SUMMARY:Learn to Row
DESCRIPTION:Our Learn to Row program is on again this Saturday from 6:50am to 8:30am. \nSign up for the 6 week introductory course to participate. \nBe sure to bring sun protection\, water bottle\, thongs or sandals\, a towel and change of clothes.
URL:https://manningriverrowingclub.org.au/event/learn-to-row/2024-12-14/
LOCATION:Rowing Club\, Endeavour Place\, Taree\,\, NSW\, 2430\, Australia
END:VEVENT
BEGIN:VEVENT
DTSTART;TZID=Australia/Sydney:20241207T070000
DTEND;TZID=Australia/Sydney:20241207T083000
DTSTAMP:20260418T091637
CREATED:20241004T024045Z
LAST-MODIFIED:20241126T235515Z
UID:10000017-1733554800-1733560200@manningriverrowingclub.org.au
SUMMARY:Learn to Row
DESCRIPTION:Our Learn to Row program is on again this Saturday from 6:50am to 8:30am. \nSign up for the 6 week introductory course to participate. \nBe sure to bring sun protection\, water bottle\, thongs or sandals\, a towel and change of clothes.
URL:https://manningriverrowingclub.org.au/event/learn-to-row/2024-12-07/
LOCATION:Rowing Club\, Endeavour Place\, Taree\,\, NSW\, 2430\, Australia
END:VEVENT
BEGIN:VEVENT
DTSTART;TZID=Australia/Sydney:20241123T070000
DTEND;TZID=Australia/Sydney:20241123T083000
DTSTAMP:20260418T091637
CREATED:20241004T024045Z
LAST-MODIFIED:20241126T235515Z
UID:10000015-1732345200-1732350600@manningriverrowingclub.org.au
SUMMARY:Learn to Row
DESCRIPTION:Our Learn to Row program is on again this Saturday from 6:50am to 8:30am. \nSign up for the 6 week introductory course to participate. \nBe sure to bring sun protection\, water bottle\, thongs or sandals\, a towel and change of clothes.
URL:https://manningriverrowingclub.org.au/event/learn-to-row/2024-11-23/
LOCATION:Rowing Club\, Endeavour Place\, Taree\,\, NSW\, 2430\, Australia
END:VEVENT
BEGIN:VEVENT
DTSTART;TZID=Australia/Sydney:20241116T070000
DTEND;TZID=Australia/Sydney:20241116T083000
DTSTAMP:20260418T091637
CREATED:20241004T024045Z
LAST-MODIFIED:20241126T235515Z
UID:10000014-1731740400-1731745800@manningriverrowingclub.org.au
SUMMARY:Learn to Row
DESCRIPTION:Our Learn to Row program is on again this Saturday from 6:50am to 8:30am. \nSign up for the 6 week introductory course to participate. \nBe sure to bring sun protection\, water bottle\, thongs or sandals\, a towel and change of clothes.
URL:https://manningriverrowingclub.org.au/event/learn-to-row/2024-11-16/
LOCATION:Rowing Club\, Endeavour Place\, Taree\,\, NSW\, 2430\, Australia
END:VEVENT
BEGIN:VEVENT
DTSTART;TZID=Australia/Sydney:20241109T070000
DTEND;TZID=Australia/Sydney:20241109T083000
DTSTAMP:20260418T091637
CREATED:20241004T024045Z
LAST-MODIFIED:20241126T235515Z
UID:10000013-1731135600-1731141000@manningriverrowingclub.org.au
SUMMARY:Learn to Row
DESCRIPTION:Our Learn to Row program is on again this Saturday from 6:50am to 8:30am. \nSign up for the 6 week introductory course to participate. \nBe sure to bring sun protection\, water bottle\, thongs or sandals\, a towel and change of clothes.
URL:https://manningriverrowingclub.org.au/event/learn-to-row/2024-11-09/
LOCATION:Rowing Club\, Endeavour Place\, Taree\,\, NSW\, 2430\, Australia
END:VEVENT
BEGIN:VEVENT
DTSTART;TZID=Australia/Sydney:20241102T070000
DTEND;TZID=Australia/Sydney:20241102T083000
DTSTAMP:20260418T091637
CREATED:20241004T024045Z
LAST-MODIFIED:20241126T235515Z
UID:10000012-1730530800-1730536200@manningriverrowingclub.org.au
SUMMARY:Learn to Row
DESCRIPTION:Our Learn to Row program is on again this Saturday from 6:50am to 8:30am. \nSign up for the 6 week introductory course to participate. \nBe sure to bring sun protection\, water bottle\, thongs or sandals\, a towel and change of clothes.
URL:https://manningriverrowingclub.org.au/event/learn-to-row/2024-11-02/
LOCATION:Rowing Club\, Endeavour Place\, Taree\,\, NSW\, 2430\, Australia
END:VEVENT
BEGIN:VEVENT
DTSTART;TZID=Australia/Sydney:20241026T070000
DTEND;TZID=Australia/Sydney:20241026T083000
DTSTAMP:20260418T091637
CREATED:20241004T024045Z
LAST-MODIFIED:20241126T235515Z
UID:10000011-1729926000-1729931400@manningriverrowingclub.org.au
SUMMARY:Learn to Row
DESCRIPTION:Our Learn to Row program is on again this Saturday from 6:50am to 8:30am. \nSign up for the 6 week introductory course to participate. \nBe sure to bring sun protection\, water bottle\, thongs or sandals\, a towel and change of clothes.
URL:https://manningriverrowingclub.org.au/event/learn-to-row/2024-10-26/
LOCATION:Rowing Club\, Endeavour Place\, Taree\,\, NSW\, 2430\, Australia
END:VEVENT
BEGIN:VEVENT
DTSTART;TZID=Australia/Sydney:20241019T070000
DTEND;TZID=Australia/Sydney:20241019T083000
DTSTAMP:20260418T091637
CREATED:20241004T024045Z
LAST-MODIFIED:20241126T235515Z
UID:10000010-1729321200-1729326600@manningriverrowingclub.org.au
SUMMARY:Learn to Row
DESCRIPTION:Our Learn to Row program is on again this Saturday from 6:50am to 8:30am. \nSign up for the 6 week introductory course to participate. \nBe sure to bring sun protection\, water bottle\, thongs or sandals\, a towel and change of clothes.
URL:https://manningriverrowingclub.org.au/event/learn-to-row/2024-10-19/
LOCATION:Rowing Club\, Endeavour Place\, Taree\,\, NSW\, 2430\, Australia
END:VEVENT
END:VCALENDAR